Workbook
Name www: #REF!
Name www: #REF!
Name www: #REF!
Name www: #REF!
Name ج_التموين_والتجارة: '[1]ميزانيات الوحدات '!#REF!
Name ج_التموين_والتجارة: '[1]ميزانيات الوحدات '!#REF!
Name ج_التموين_والتجارة: '[1]ميزانيات الوحدات '!#REF!
Name ج_التموين_والتجارة: '[1]ميزانيات الوحدات '!#REF!
Name ذ_الثقافة_والاعلام: '[1]ميزانيات الوحدات '!#REF!
Name ذ_الثقافة_والاعلام: '[1]ميزانيات الوحدات '!#REF!
Name ذ_الثقافة_والاعلام: '[1]ميزانيات الوحدات '!#REF!
Name ذ_الثقافة_والاعلام: '[1]ميزانيات الوحدات '!#REF!
Name ر_السياحة: '[1]ميزانيات الوحدات '!#REF!
Name ر_السياحة: '[1]ميزانيات الوحدات '!#REF!
Name ر_السياحة: '[1]ميزانيات الوحدات '!#REF!
Name ر_السياحة: '[1]ميزانيات الوحدات '!#REF!
Name ز_الدفاع_والأمن: '[1]ميزانيات الوحدات '!#REF!
Name ز_الدفاع_والأمن: '[1]ميزانيات الوحدات '!#REF!
Name ز_الدفاع_والأمن: '[1]ميزانيات الوحدات '!#REF!
Name ز_الدفاع_والأمن: '[1]ميزانيات الوحدات '!#REF!
Name س_التأمينات_والشئون_الاجتماعية: '[1]ميزانيات الوحدات '!#REF!
Name س_التأمينات_والشئون_الاجتماعية: '[1]ميزانيات الوحدات '!#REF!
Name س_التأمينات_والشئون_الاجتماعية: '[1]ميزانيات الوحدات '!#REF!
Name س_التأمينات_والشئون_الاجتماعية: '[1]ميزانيات الوحدات '!#REF!
Name ش_جهاز_تنظيم__السلكية_واللاسلكية: '[1]ميزانيات الوحدات '!#REF!
Name ش_جهاز_تنظيم__السلكية_واللاسلكية: '[1]ميزانيات الوحدات '!#REF!
Name ش_جهاز_تنظيم__السلكية_واللاسلكية: '[1]ميزانيات الوحدات '!#REF!
Name ش_جهاز_تنظيم__السلكية_واللاسلكية: '[1]ميزانيات الوحدات '!#REF!
Name ش146: #REF!
Name ش146: #REF!
Name ش146: #REF!
Name ش146: #REF!
Name ص_بنك_التنمية_الرئيسى_للإئتمان_الزراعى: '[1]ميزانيات الوحدات '!#REF!
Name ص_بنك_التنمية_الرئيسى_للإئتمان_الزراعى: '[1]ميزانيات الوحدات '!#REF!
Name ص_بنك_التنمية_الرئيسى_للإئتمان_الزراعى: '[1]ميزانيات الوحدات '!#REF!
Name ص_بنك_التنمية_الرئيسى_للإئتمان_الزراعى: '[1]ميزانيات الوحدات '!#REF!
Name صفحةأ_بيانى: '[2]الرسم البيانى'!#REF!
Name صفحةأ_بيانى: '[2]الرسم البيانى'!#REF!
Name صفحةأ_بيانى: '[2]الرسم البيانى'!#REF!
Name صفحةأ_بيانى: '[2]الرسم البيانى'!#REF!
Name صفحةغ_كفاية_الاستثمار: #REF!
Name صفحةغ_كفاية_الاستثمار: #REF!
Name صفحةغ_كفاية_الاستثمار: #REF!
Name صفحةغ_كفاية_الاستثمار: #REF!

Sheet الإجمالية (3)
A1: ختامى الموازنة العامة للدولة
A2: النتائج العامة
A3: للسنة المالية 2024/2023
A4: البيــــــــان | B4: الفعلي 2024/2023 | D4: ختامى السنة المالية 2023/2022
A7: # الإيرادات | B7: 2543689.6 | D7: 1563921.3
A8: ـ الضرائب | B8: 1628998.4 | D8: 1258582.3
A9: ـ المنــح | B9: 11908.526 | D9: 5431.7602
A10: ـ الايرادات الاخرى | B10: 902782.65 | D10: 299907.28 | G10: =B7+B19 -> 2586701.1
A11: # المصروفات | B11: 3055194.4 | D11: 2184593.6 | G11: =B11+B20+B23 -> 4374402.7
A12: ـ الاجور والتعويضات للعاملين | B12: 512694.67 | D12: 412463.43 | G12: =B7+B19+B22 -> 4374402.7
A13: ـ شراء السلع والخدمات | B13: 146402.21 | D13: 127780.04
A14: ـ الفوائد | B14: 1364088.7 | D14: 774202.58
A15: ـ الدعم والمنح والمزايا الإجتماعية | B15: 573008.12 | D15: 454100.86
A16: ـ المصروفات الأخرى | B16: 147262.99 | D16: 127059.67
A17: ـ شراء الأصول غير المالية (الأستثمارات) | B17: 311737.76 | D17: 288987.06
A18: # صافى حيازة الاصول المالية | B18: -7008.4337 | D18: -10771.762
A19: ـ متحصلات الإقراض ومبيعات الأصول المالية بدون حصيلة الخصخصة | B19: 43011.509 | D19: 36055.594
A20: ـ حيازة الأصول المالية المحلية والأجنبية بدون مساهمة الخزانة فى صندوق تمويل الهيكلة | B20: 36003.075 | D20: 25283.832
A21: # صافى الأقتراض و سداد القروض | B21: 504496.42 | D21: 609900.56
A22: ـ الأقتراض وإصدار الأوراق المالية بخلاف الأسهم | B22: 1787701.6 | D22: 1479002
A23: ـ سداد القروض المحلية والأجنبية | B23: 1283205.2 | D23: 869101.44
A24: العجز ( الفائض ) نقدى | B24: 511504.86 | D24: 620672.33
... A36: العجز الكلى | B36: 504496.42 | D36: 609900.56
B319: 0.1
B320: 5.3

Sheet الإجمالية (2)
A1: ختامى الموازنة العامة للدولة
A2: النتائج العامة
A3: للسنة المالية 2024/2023
A4: البيــــــــان | B4: ربط الأصلي 2024/2023 | C4: الفعلي 2024/2023 | D4: نسبة الفعلي للربط الأصلي | E4: ختامى السنة المالية 2023/2022 | F4: الانحراف (1-2) | G4: أسباب الانحرافات
B7: (1) | C7: (2) | D7: (1/2)
A8: # الإيرادات | B8: 2142110.1 | C8: 2543689.6 | D8: =C8/B8 -> 1.1874691 | E8: 1563921.3 | F8: =SUM(F9:F11) -> 401579.5 | G8: - زيادة في أغلب الإيرادات ولكن تأثرت جملة الإيرادات بشكل عام بانخفاض عائدات قناة السويس نتيجة للتطورات الإقليمية وكذلك تأثر إيرادات البترول
A9: ـ الضرائب | B9: 1529990.8 | C9: 1628998.4 | D9: =C9/B9 -> 1.0647112 | E9: 1258582.3 | F9: =C9-B9 -> 99007.606 | G9: ترجع أسباب زيادة الفعلى المحصل عن الاعتماد الأصلي الى زيادة الحصيلة الفعلية للانواع التالية:- - الضرائب على الدخول من التوظف - الضرائب على دخول الافراد بخلاف التوظف - الضريبة على ارباح شركات الاموال (باقى الشركات) - ضرائب على العمليات المالية التجارية والرأسمالية
A10: ـ المنــح | B10: 1930.907 | C10: 11908.526 | D10: =C10/B10 -> 6.1673226 | E10: 5431.7602 | F10: =C10-B10 -> 9977.6193 | G10: ترجع أسباب زيادة الفعلى المحصل عن الاعتماد الأصلي الى زيادة الحصيلة الفعلية لكل من منح من حكومات أجنبية - منح من منظمات دولية - منح من جهات حكومية
A11: ـ الايرادات الاخرى | B11: 610188.37 | C11: 902782.65 | D11: =C11/B11 -> 1.4795147 | E11: 299907.28 | F11: =C11-B11 -> 292594.28 | G11: ترجع أسباب زيادة الفعلى المحصل عن الاعتماد الأصلي الى زيادة الحصيلة الفعلية لكل من:- - الفوائد المحصلة - أرباح الأسهم (الهيئات الأقتصادية - شركات القطاع العام -هيئة البترول ) - المحصل من موارد جارية من الصناديق والحسابات الخاصة - ايرادات أخرى مختلفة | I11: =C8+#REF! -> #REF!
B253: 0.1
B254: 5.3

Sheet الإجمالية
A1: ختامى الموازنة العامة للدولة
A2: للسنة المالية 2024/2023
A3: البيــــــــان | B3: فعلي السنة المالية 2023/2022 | C3: ختامي السنة المالية 2024/2023 | E3: أسباب التغير
C4: ربط الأصلي | D4: الفعلي
B6: (3) | C6: (1) | D6: (2)
A7: # الإيرادات | B7: 1563921.3 | C7: 2142110.1 | D7: 2543689.6 | E7: ترجع الزيادة في الايرادات الي:- - ارتفاع الإيرادات الضريبية بشكل ملحوظ في ضوء نمو حصيلة كافة أنواع الضرائب بشكل متكامل مدفوعاً بارتفاع الناتج المحلي الإسمي، بالإضافة إلى مساهمة ميكنة النظم الضريبية في تطوير الإدارة الضريبية وزيادة الحصيلة الضريبية من خلال توسيع القاعدة الضريبية دون فرض ضرائب جديدة، ومنها الضرائب على الدخول من التوظف - الضرائب على دخول الافراد بخلاف التوظف - الضريبة على ارباح شركات الاموال (باقى الشركات) - ضرائب على العمليات المالية التجارية والرأسمالية بالاضافة الى الزيادة المحققة في الايرادات الغير ضريبية ومنها: - منح من حكومات أجنبية - منح من منظمات دولية - منح من جهات حكومية - الفوائد المحصلة - أرباح الأسهم (الهيئات الأقتصادية - شركات القطاع العام -هيئة البترول ) - المحصل من موارد جارية من الصناديق والحسابات الخاصة - ايرادات أخرى مختلفة وجدير بالذكر تأثر الإيرادات بانخفاض عائدات قناة السويس نتيجة للتطورات الإقليمية وكذلك تأثر إيرادات البترول | F7: - زيادة في أغلب الإيرادات ولكن تأثرت جملة الإيرادات بشكل عام بانخفاض عائدات قناة السويس نتيجة للتطورات الإقليمية وكذلك تأثر إيرادات البترول
A8: ـ الضرائب | B8: 1258582.3 | C8: 1529990.8 | D8: 1628998.4 | F8: ترجع أسباب زيادة الفعلى المحصل عن الاعتماد الأصلي الى زيادة الحصيلة الفعلية للانواع التالية:- - الضرائب على الدخول من التوظف - الضرائب على دخول الافراد بخلاف التوظف - الضريبة على ارباح شركات الاموال (باقى الشركات) - ضرائب على العمليات المالية التجارية والرأسمالية
A9: ـ المنــح | B9: 5431.7602 | C9: 1930.907 | D9: 11908.526 | F9: ترجع أسباب زيادة الفعلى المحصل عن الاعتماد الأصلي الى زيادة الحصيلة الفعلية لكل من منح من حكومات أجنبية - منح من منظمات دولية - منح من جهات حكومية
A10: ـ الايرادات الاخرى | B10: 299907.28 | C10: 610188.37 | D10: 902782.65 | F10: ترجع أسباب زيادة الفعلى المحصل عن الاعتماد الأصلي الى زيادة الحصيلة الفعلية لكل من:- - الفوائد المحصلة - أرباح الأسهم (الهيئات الأقتصادية - شركات القطاع العام -هيئة البترول ) - المحصل من موارد جارية من الصناديق والحسابات الخاصة - ايرادات أخرى مختلفة | G10: =D7+D20 -> 2586701.1
A11: # المصروفات | B11: 2184593.6 | C11: 2990924.5 | D11: 3055194.4 | E11: ترجع الزيادة في المصروفات الي:- - إقرار حزمة اجتماعية خلال العام المالي 2024/2023 لمعاونة كافة الفئات على مواجهة الزيادة في نفقات المعيشة . - إقرار حزمة اجتماعية جديدة من الاجراءات الإجتماعية خلال العام المالي لمعاونة كافة الفئات على مواجهة الزيادة في نفقات المعيشة ولتحسين أوضاع العاملين بالدولة . ــ زيادة متطلبات العلاج علي نفقة الدولة نتيجة زيادة أسعار الادوية والمستلزمات الطبية. - زيادة الانفاق على البرامج الإجتماعية وذلك من منظور إهتمام الدولة المصرية بمساندة ودعم المواطنين، خاصة الفئات الأولى بالرعاية، ومساندة المواطنين في تحمل تكاليف المعيشة من خلال الدعومات التي تقدمها الدولة المصرية للسلع الإستراتيجية مثل أسعار القمح ورغيف الخبز والمواد الغذائية ومخصصات الأدوية ودعم التأمين الصحى، والمستلزمات الطبية والتغذية المدرسية، ودعومات لنقل الركاب، والإسكان الاجتماعي ومزايا الأمان الاجتماعي، والدعم النقدي المباشر لبرنامجى تكافل وكرامة، ومعاش الضمان الاجتماعي، كما تعمل تلك البرامج كصمام أمان لتوجيه المساندات الوقتية والسريعة للتصدي للصدمات المحلية والخارجية التي قد يواجهها الاقتصاد المصري لتخفيف الأعباء عن دخول المواطنين، وتوجيه المخصصات لتطوير البنية التحتية من توصيل مياه، وصرف صحي وكهرباء، وطرق لتطوير كافة محافظات مصر، وخاصة المناطق المهمشة والقري الصغيرة. والدعم المقدم لنشاط الاعمال مثل دعم تنشيط الصادرات، ودعم المزارعين لدعم مستلزمات الإنتاج الزراعي من أسمدة وبذور وتقاوي والمبيدات. | F11: . ارتفعت الإيرادات الضريبية بشكل ملحوظ في ضوء نمو حصيلة كافة أنواع الضرائب بشكل متكامل مدفوعاً بتعافي النشاط الاقتصادي وحل ازمة النقد الأجنبي، بالإضافة إلى مساهمة ميكنة النظم الضريبية في تطوير الإدارة الضريبية وزيادة الحصيلة الضريبية من خلال توسيع القاعدة الضريبية. | G11: =D11+D21+#REF! -> #REF!
A12: ـ الاجور والتعويضات للعاملين | B12: 412463.43 | C12: 470000 | D12: 512694.67 | F12: ترجع أسباب زيادة المنصرف الفعلى عن الاعتماد الأصلي الى زيادة المنصرف الفعلى للانواع التالية - المرتبات الأساسية - المكافات - بدلات نوعية - مزايــــا نقـــديــة - المزايــا العينيــة - المزايا التأمينية | G12: =D7+D20+#REF! -> #REF!
A13: ـ شراء السلع والخدمات | B13: 127780.04 | C13: 139380.81 | D13: 146402.21 | F13: ترجع أسباب زيادة المنصرف الفعلى عن الاعتماد الأصلي الى زيادة المنصرف الفعلى للانواع التالية:- - المواد الخام - نفقات طبع ودوريات وحقوق تأليف - نقل وانتقالات عامة - ايجـــار - نفقات خدمية متنوعة
A14: ـ الفوائد | B14: 774202.58 | C14: 1120085.9 | D14: 1364088.7 | F14: ترجع أسباب زيادة المنصرف الفعلى عن الاعتماد الأصلي الى زيادة المنصرف الفعلى للانواع التالية:- فوائد خارجية - فوائد محلية (المقيمين) "لجهات اخرى (شاملة المحليات)"
A15: ـ الدعم والمنح والمزايا الإجتماعية | B15: 454100.86 | C15: 529685.26 | D15: 573008.12 | F15: ترجع أسباب زيادة المنصرف الفعلى عن الاعتماد الأصلي الى زيادة المنصرف الفعلى للانواع التالية:- - الدعم لمؤسسات غيرمالية - منح لجهات الحكومة العامة "جاري" - نفقات خدمية لغير العاملين
A16: ـ المصروفات الأخرى | B16: 127059.67 | C16: 145082.97 | D16: 147262.99 | F16: ترجع أسباب زيادة المنصرف الفعلى عن الاعتماد الأصلي الى زيادة المنصرف الفعلى للانواع التالية:- - اشــتراكات - تحويلات جارية وتخصيصية أخرى
A17: ـ شراء الأصول غير المالية (الأستثمارات) | B17: 288987.06 | C17: 586689.55 | D17: 311737.76 | F17: ترجع أسباب نقص المنصرف الفعلى عن الاعتماد الأصلي الى نقص المنصرف الفعلى للانواع التالية:- - أستثمار مباشر (شاملة الرسوم الجمركية) - ابحاث ودراسات للمشروعات الاستثمارية
A18: العجز ( الفائض ) نقدى | B18: 620672.33 | C18: 848814.37 | D18: 511504.86
A19: # صافى حيازة الاصول المالية | B19: -10771.762 | C19: -24374.599 | D19: -7008.4337 | F19: تعكس البرامج الإجتماعية الموجودة بموازنة العام المالى ۲۰۲٤/۲۰۲۳ إهتمام الدولة المصرية بمساندة ودعم المواطنين، خاصة الفئات الأولى بالرعاية، حيث تساعد تلك البرامج في توفير مظلة امان إجتماعي هامة تعمل على مساندة المواطنين في تحمل تكاليف المعيشة من خلال الدعومات التي تقدمها الدولة المصرية لتحمل فروق الأسعار بين الأسعار العالمية والأسعار المحلية المحددة من قبل الدولة المصرية للسلع الإستراتيجية مثل أسعار القمح ورغيف الخبز والمواد الغذائية . ومخصصات للأدوية ودعم التأمين الصحى، والمستلزمات الطبية والتغذية المدرسية، ودعومات لنقل الركاب، والإسكان الاجتماعي ومزايا الأمان الاجتماعي، والدعم النقدي المباشر لبرنامجى تكافل وكرامة، ومعاش الضمان الاجتماعي. كما تعمل تلك البرامج كصمام أمان لتوجيه المساندات الوقتية والسريعة للتصدي للصدمات المحلية والخارجية التي قد يواجهها الاقتصاد المصري لتخفيف الأعباء عن دخول المواطنين، وتوجيه المخصصات لتطوير البنية التحتية من توصيل مياه، وصرف صحي وكهرباء، وطرق لتطوير كافة محافظات مصر، وخاصة المناطق المهمشة والقري الصغيرة. والدعم المقدم لنشاط الاعمال مثل دعم تنشيط الصادرات، ودعم المزارعين لدعم مستلزمات الإنتاج الزراعي من أسمدة وبذور وتقاوي والمبيدا
A20: ـ متحصلات الإقراض ومبيعات الأصول المالية بدون حصيلة الخصخصة | B20: 36055.594 | C20: 66750.167 | D20: 43011.509 | E20: ترجع أسباب نقص الفعلى المحصل عن الاعتماد الأصلي الى نقص الحصيلة الفعلية للانواع التالية:- - أقساط محصلة من الإقراض "من الهيئات الاقتصادية - من شركات قطاع الاعمال العام - محصلة من أجهزة الموازنة العامة (أقساط القروض الخارجية المعاد أقراضها من الخزانة العامة). - المتحصلات من بيع الاصول وحقوق الملكية "من شركات قطاع أعمال عام".
A21: ـ حيازة الأصول المالية المحلية والأجنبية بدون مساهمة الخزانة فى صندوق تمويل الهيكلة | B21: 25283.832 | C21: 42375.568 | D21: 36003.075 | E21: ترجع أسباب نقص المنصرف الفعلى عن الاعتماد الأصلي الى نقص المنصرف الفعلى للانواع التالية:- - مساهمات وحقوق ملكية "فى هيئات اقتصادية - فى شركات قابضة" - احتياطيات عامة لحيازة الاصول المالية
A22: العجز الكلى | B22: 609900.56 | C22: 824439.77 | D22: 504496.42
A23: الفائض / العجز الأولى | B23: -164302.01 | C23: -295646.09 | D23: -859592.28
A24: الناتج المحلى الاجمالى | B24: 10100000 | C24: 11841100 | D24: 14000000
A25: نسبة الإيرادات الى الناتج المحلى | B25: =B7/B24 -> 0.15484369 | C25: =C7/C24 -> 0.18090465 | D25: =D7/D24 -> 0.18169211
A26: نسبة المصروفات الى الناتج المحلى | B26: =B11/B24 -> 0.2162964 | C26: =C11/C24 -> 0.2525884 | D26: =D11/D24 -> 0.21822817
A27: نسبة العجز ( الفائض ) النقدى الى الناتج المحلى | B27: =B18/B24 -> 0.061452705 | C27: =C18/C24 -> 0.071683743 | D27: =D18/D24 -> 0.036536061
A28: نسبة العجز الكلى الى الناتج المحلى | B28: =B22/B24 -> 0.060386194 | C28: =C22/C24 -> 0.069625269 | D28: =D22/D24 -> 0.036035459
A29: نسبة العجز الاولى الى الناتج المحلى | B29: =B23/B24 -> -0.016267526 | C29: =C23/C24 -> -0.024967789 | D29: =D23/D24 -> -0.061399448
C316: 0.1
C317: 5.3

Sheet اسباب الاعتماد الاضافي
A1: مبررات صدور الاعتماد الاضافى بالموازنة العامة للدولة للسنة المالية 2024/2023
A2: للسنة المالية 2024/2023
A3: البيــــــــان | B3: ربط 2024/2023 | E3: مبررات الاعتماد الإضافي
B4: الاعتماد الأصلى | C4: الإعتماد الإضافي | D4: الربط المعدل بعد الاعتماد الإضافي
A7: ـ الاجور والتعويضات للعاملين | B7: ='المصروفات اقتصادي'!E11 -> 470000 | C7: 32000 | D7: =B7+C7 -> 502000 | E7:  تبلغ الأعباء الإضافية المطلوب تدبيرها لمواجهة الزيادة في متطلبات الأجور وتعويضات العاملين بنحو مبلغ 38.0 مليار جنيه وذلك وفقاً لما يلى :- ــ تم إقرار حزمة اجتماعية تم العمل بها اعتبارا من أكتوبر 2023 لمعاونة كافة الفئات على مواجهة الزيادة في نفقات المعيشة من خلال زيادة علاوة غلاء المعيشة الاستثنائية السابق إقرارها في نوفمبر 2022 لتصبح مبلغ 600 جنيه شهرياً بدلاً من 300 جنيه لكافة العاملين بالجهاز الإداري للدولة بتكلفة تبلغ نحو 10.0 مليار جنيه عن الفترة من أكتوبر 2023 حتى يونيه2024 . ــ كما تم إقرار حزمة اجتماعية جديدة من الاجراءات الإجتماعية تم العمل بها إعتباراً من مارس 2024 لمعاونة كافة الفئات على مواجهة الزيادة في نفقات المعيشة ولتحسين أوضاع العاملين بالدولة من خلال زيادة الحد الادنى للأجور ليصل الى 6000 جنيه شهرياً لأدنى فئات التعيين وإقرار حافز إضافى وزيادة وتعجيل صرف العلاوات الدورية والخاصة ورفع حد الآعفاء الضريبي على الدخول وتبلغ التكلفة الاجمالية لتلك الحزمة عن الفترة من مارس حتى يونيه 2024 نحو مبلغ 25.0 مليار جنيه. ــ كما أن تغير سعر الصرف قد أثر على مرتبات العاملين بالخارج ويخص منها وزارة الخارجية 2024 وبأعباء تصل جملتها لنحو 3.0 مليار جنيه
A8: ـ الفوائد | B8: ='المصروفات اقتصادي'!E258 -> 1120085.9 | C8: 244000 | D8: =B8+C8 -> 1364085.9 | E8:  زيادة مدفوعات الفوائد المستحقة على المديونيات المحلية و الخارجية بتكلفة إجمالية تبلغ نحو 244.0 مليار جنيه نتيجة المتغيرات التالية :- ــ إرتفاع أسعار العائد على الأوراق المالية الحكومية نتيجة ارتفاع أسعار الفائدة عالميا في ضوء السياسة الانكماشية المتبعة من قبل العديد من البنوك المركزية، وقيام البنك المركزي المصري بزيادة سعر الاقراض والخصم نتيجة إرتفاع معدلات التضخم مما أدي إلي إرتفاع أسعار الفائدة علي أذون وسندات الخزانة العامة بنحو 10% عن التقديرات التي تم على أساسها إعداد الموازنة. ــ أدي تراجع قيمة الجنيه امام الدولار بشكل كبير على مدار الشهور الماضية الى ارتفاع قيمة الفوائد المُستحقة بعملات أجنبية بالإضافة الى تخارج المستثمرين الأجانب وعدم وضوح الرؤية لاتجاهات ارتفاع أسعار الفائدة المحلية. ــ تركز إستثمارات القطاع المصرفي في الأذون قصيرة الأجل (91 يوم) نظراً لتوقع السوق بارتفاع اسعار الفائدة، والذي بدوره ادي الي ارتفاع الاحتياجات التمويلية علي وزارة المالية مما ادي الي تركز الفوائد المسددة علي العام المالي الحالي 2023/2024 مقارنة بالأعوام المالية السابقة.
A9: ـ الدعم والمنح والمزايا الإجتماعية | B9: ='المصروفات اقتصادي'!E275 -> 529685.26 | C9: 44000 | D9: =B9+C9 -> 573685.26 | E9:  زيادة متطلبات الدعــــم والمنـــح والمزايا الاجتماعيــة " بنحــــــو 51.1 مليار جنيه لمواجهة الزيادة التي نتجت عن العديد من المتغيرات التالية :- ــ زيادة الدعم المطلوب لرغيف الخبر المدعم بنحو مبلغ 10.8 مليار جنيه نتيجة المتغيرات التالية :-  ارتفاع تكلفة شراء القمح المستورد في ضوء تحرير سعر صرف الجنيه امام الدولار حيث أن متوسط سعر شراء القمح المستورد يبلغ في المتوسط نحو 280 دولار للطن.  قرار مجلس الوزراء بجلسته رقم (281) بتاريخ 13/3/2024 بشأن الموافقة على رفع سعر توريد القمح المحلى موسم 2024 وهو ما يترتب عليه أعباء إضافية لتمويل شراء القمح المحلى من المزارعين. ــ زيادة دعم المواد البترولية بتكلفة تبلغ نحو 31.0 مليار جنيه نتيجة المتغيرات التي ترتبت على تحرير سعر صرف الجنيه أمام الدولار وتكلفة توفير المواد البترولية ومساندة الهيئة لتوفير السيولة النقدية لديها خلال شهري مايو ويونيه 2024 للوفاء بالتزاماتها تجاه الجهات الخارجية. ــ زيادة متطلبات العلاج علي نفقة الدولة نتيجة زيادة أسعار الادوية والمستلزمات الطبية مما يتطلب توفير مبلغ 4.0 مليار جنيه لمواجهة تلك المتطلبات . ــ زيادة الاعتمادات المطلوب توفيرها لبرنامج تكافل وكرامة بنحو مبلغ 5.3 مليار جنيه وذلك نتيجة ما يلى :-  ما تم إقراره بالحزمة الاجتماعية التي تم العمل بها اعتبارا من أكتوبر 2023 والتي تضمنت زيادة أعداد المستفيدين من برنامج معاش تكافل وكرامة لأكثر من5.0 مليون أسرة وزيادة الفئات المالية للمستفيدين من البرنامج بنسبة 15٪ بتكلفة إجمالية خلال الفترة من أكتوبر 2023 حتى يونيه 2024 تبلغ قدرها نحو 3.5 مليار جنيه.  ما تضمنته الحزمة الاجتماعية الجديدة التي تم العمل بها اعتبارا من مارس 2024 من زيادة معاش تكافل وكرامة بنسبة 15% وهو ما يترتب عليه أعباء إضافية على الموازنة خلال الفترة من مارس حتى يونيه 2024 بتكلفة تبلغ نحو 1.8 مليار جنيه.
B294: 0.1
B295: 5.3

Sheet الموارد اقتصادي
C2: الموارد بالتقسيم الاقتصادي
C3: ختامي 2024/2023
C5: البيـــــان | D5: ختامي السنة المالية 2023/2022 | E5: ختامي الموازنة العامة للدولة للسنة المالية 2024/2023
E6: ربط أصلي | F6: الفعلي
B10: 10000000 | C10: المــــوارد | D10: 3078978.9 | E10: 4349214.2 | F10: 4374402.7
B11: 11000000 | C11: # الايرادات | D11: 1563921.3 | E11: 2142110.1 | F11: 2543689.6
B12: 11100000 | C12: ـ الضـــــرائب | D12: 1258582.3 | E12: 1529990.8 | F12: 1628998.4
B13: 11110000 | C13: = الضرائب على الدخول والأرباح والمكاسب الرأسمالية | D13: 516286.08 | E13: 594446.83 | F13: 682795.38
B14: 11110100 | C14: * الضرائب على الدخول من التوظف | D14: 116540.91 | E14: 134899.82 | F14: 154574.18
B15: 11110101 | C15: x الضرائب على المرتبات المحلية | D15: 113120.92 | E15: 130934.85 | F15: 149957.2
B16: 11110103 | C16: x ضرائب الدمغة على الرواتب | D16: 3419.9845 | E16: 3964.964 | F16: 4616.9791
B17: 11110200 | C17: * الضرائب على دخول الافراد بخلاف التوظف | D17: 74733.505 | E17: 86601.212 | F17: 126177.87
B18: 11110201 | C18: x الضرائب على المهن غير التجارية | D18: 8502.0123 | E18: 9538.212 | F18: 12902.817
B19: 11110203 | C19: x ضرائب النشاط التجارى والصناعى | D19: 66201.512 | E19: 77005 | F19: 112922.42
B20: 11110206 | C20: x ضرائب على الفائدة من السندات ( رؤوس أموال منقولة ) | D20: 29.980112 | E20: 21 | F20: 212.011
B21: 11110300 | C21: * الضرائب على الارباح الرأسمالية | D21: 2845.0469 | E21: 2675.375 | F21: 3908.8083
... B113: 11130713 | C113: x رسم تنمية على المحاجر | D113: 2199.9064 | E113: 1894.185 | F113: 1497.6334
B114: 11130714 | C114: x رسم تنمية على خدمات المحمول | D114: 1442.0035 | E114: 2408.28 | F114: 1576.3274
B115: 11130715 | C115: x رسم تنمية على عقود شراء او بيع او اعارة او تجديد او غيرها | D115: 83.353214 | E115: 196.53 | F115: 72.742438
B116: 11130716 | C116: x رسم تنمية على تراخيص شركات الخدمات الرياضية المنشأة طبقا لقانون الرياضة | D116: 0.743032 | E116: 1 | F116: 0.196925
B117: 11130717 | C117: x رسم تنمية على أغذية الكلاب والقطط والطيور الاليفة للزينة | D117: 122.2404 | E117: 144.264 | F117: 135.93749
B118: 11130718 | C118: x رسم تنمية على منتج البنزين بانواعه ومنتج السولار | D118: 6941.7144 | E118: 8000 | F118: 6557.3818
B119: 11130719 | C119: x رسم تنمية على أجهزة التليفون المحمول واجزاءه وجميع الاكسسوارات الخاصة به | D119: 540.72217 | E119: 2000 | F119: 579.51315
B120: 11130720 | C120: x رسم تنمية على التبغ الخام او غير المصنع وفضلات التبغ بكل اشكاله | D120: 138.54866 | E120: 152.08 | F120: 134.75168
B121: 11130721 | C121: x رسم تنمية على جميع أنواع الحديد تام الصنع الوارد من الخارج | D121: 33.239196 | E121: 100 | F121: 32.124108
B122: 11130722 | C122: x رسم تنمية على 2.5 من قيمة فاتورة الانترنت للشركات والمنشأت التجارية | D122: 43.006013 | E122: 34.48 | F122: 60.351654
B123: 11130723 | C123: 10x% قيمة الفاتورة للأغراض الجمركية مضافاٌ اليها الضريبة الجمركية | D123: 0 | E123: 0 | F123: 766.07284
B124: 11130800 | C124: * ضرائب على استخدام السلع والترخيص باستخدامها وتأدية الانشطة | D124: 28420.91 | E124: 31663.005 | F124: 32576.026
B125: 11130801 | C125: x الاتاوة على قناة السويس | D125: 12291.208 | E125: 13950 | F125: 12200
B126: 11130802 | C126: x الاتاوة على استخدام الطريق النهرى | D126: 1.495783 | E126: 1.5 | F126: 1.27051
... B134: 11130811 | C134: x رسوم تصاريح العمل | D134: 246.48849 | E134: 314.36 | F134: 263.97449
B135: 11130813 | C135: x رسم صادر على الصادرات | D135: 131.96877 | E135: 150 | F135: 697.01485
B136: 11140000 | C136: = ضرائب التجارة الدولية | D136: 59390 | E136: 58214.908 | F136: 75478.146
B137: 11140100 | C137: * ضرائب على الواردات | D137: 57591.741 | E137: 57396.688 | F137: 73362.091
B138: 11140101 | C138: x ضرائب جمركية قيمية | D138: 57348.597 | E138: 56853 | F138: 73180.318
B139: 11140102 | C139: x ضرائب جمركية على السجائر والتبغ والدخان | D139: 243.14342 | E139: 543.688 | F139: 181.77367
B140: 11140200 | C140: * ضرائب على التجارة الدولية أخرى | D140: 1798.2593 | E140: 818.22 | F140: 2116.0543
B141: 11140205 | C141: x ايرادات الغرامات | D141: 1554.1461 | E141: 705 | F141: 1801.3107
B142: 11140206 | C142: x ايرادات المضبوطات | D142: 244.11318 | E142: 113.22 | F142: 314.74364
B143: 11150000 | C143: = ضرائب أخرى | D143: 2193.0235 | E143: 39000 | F143: 9918
B144: 11150100 | C144: * على الاعمال التجارية | D144: 2193.0235 | E144: 39000 | F144: 9918
B145: 11150101 | C145: x ايرادات رؤوس أموال منقولة من البنك المركزى | D145: 2193.0235 | E145: 39000 | F145: 9918
B146: 11150200 | C146: * المتحصلات بالوسائل الالكترونية | D146: 0 | E146: 0 | F146: 0
B147: 11150201 | C147: x متحصلات الكترونية عن أذون تسوية | D147: 0 | E147: 0 | F147: 0
B148: 11150202 | C148: x متحصلات الكترونية أخرى | D148: 0 | E148: 0 | F148: 0
B149: 11200000 | C149: ـ المنح | D149: 5431.7602 | E149: 1930.907 | F149: 11908.526
B150: 11210000 | C150: = منح من حكومات أجنبية | D150: 363.13202 | E150: 405.51 | F150: 1678.9691
B151: 11220000 | C151: = منح من منظمات دولية | D151: 2364.8654 | E151: 770.917 | F151: 3349.9379
B152: 11230000 | C152: = منح من جهات حكومية | D152: 2703.7627 | E152: 754.48 | F152: 6879.6193
B153: 11300000 | C153: ـ الإيرادات الأخرى | D153: 299907.28 | E153: 610188.37 | F153: 902782.65
B154: 11310000 | C154: = عوائد الملكية | D154: 86938.985 | E154: 115177.35 | F154: 105013.53
B155: 11310100 | C155: * الفوائد المحصلة | D155: 15553.694 | E155: 15981.03 | F155: 28696.536
B156: 11310101 | C156: x على السندات | D156: 114.44728 | E156: 30 | F156: 75.060334
B157: 11310102 | C157: x على الإقراض | D157: 66.090591 | E157: 2.53 | F157: 10.546574
B158: 11310103 | C158: x على إعادة الإقراض (تشمل فوائد القروض الخارجية المعاد أقراضها من الخزانة العامة) | D158: 14460.754 | E158: 13799 | F158: 19380.799
B159: 11310104 | C159: x فوائد دائنة | D159: 795.55477 | E159: 2024 | F159: 8981.8197
B160: 11310105 | C160: x أخرى | D160: 116.84738 | E160: 125.5 | F160: 248.31009
... B206: 11320133 | C206: x حصيلة منح الجنسية المصرية | D206: 57.661824 | E206: 50 | F206: 151.5379
B207: 11320134 | C207: x مبالغ محصلة من الجهات الغير داخلة في الموازنة العامة للدولة مقابل ضمان وزارة المالية لها | D207: 4411.4943 | E207: 2443.662 | F207: 823.56446
B208: 11320135 | C208: xحصة الخزانة العامة من حصيلة الاربعون قرش المخصصة للهيئة العامة للتأمين الصحي | D208: 55.668633 | E208: 55 | F208: 49.705299
B209: 11320200 | C209: * إيرادات بيع السلع | D209: 100.45144 | E209: 86.504 | F209: 149.28787
B210: 11320201 | C210: x حصيلة بيع المخزون السلعى | D210: 100.45144 | E210: 86.504 | F210: 149.28787
B211: 11320300 | C211: * المتحصلات بالوسائل الالكترونية | D211: 0 | E211: 0 | F211: 0
B212: 11320301 | C212: x متحصلات الكترونية عن أذون تسوية | D212: 0 | E212: 0 | F212: 0
B213: 11320302 | C213: x متحصلات الكترونية أخرى | D213: 0 | E213: 0 | F213: 0
B214: 11330000 | C214: = تعويضات وغرامات | D214: 2633.6987 | E214: 2476.731 | F214: 2535.5698
B215: 11330100 | C215: * غرامات العقوبات والمصادرات | D215: 2633.6987 | E215: 2476.731 | F215: 2535.5698
B216: 11330101 | C216: x ايرادات النقد المصادر | D216: 162.23485 | E216: 102.3 | F216: 184.24963
B217: 11330102 | C217: x حصيلة الاموال المستردة | D217: 13.775822 | E217: 30 | F217: 17.837887
B218: 11330103 | C218: x التعويضات الناتجة عن المخالفات الاستيرادية | D218: 280.96157 | E218: 121 | F218: 362.30463
B219: 11330104 | C219: x تعويضات عن الممارسات الضارة فى التجارة الدولية | D219: 823.95261 | E219: 600 | F219: 369.84361
B220: 11330105 | C220: x حصيلة صندوق الغرامات والجزاءات | D220: 0.20023 | E220: 0.224 | F220: 0.223938
B221: 11330106 | C221: x حصيلة الغرامات | D221: 1324.5312 | E221: 1254.622 | F221: 1446.7218
B222: 11330107 | C222: x أخرى | D222: 28.042401 | E222: 368.585 | F222: 154.38834
B223: 11340000 | C223: = التحويلات الاختيارية | D223: 10299.225 | E223: 1563.087 | F223: 6984.604
B224: 11340100 | C224: * جـــارية | D224: 8613.8084 | E224: 473.087 | F224: 4869.9162
B225: 11340102 | C225: x ايرادات انشطة مختلفة | D225: 8613.8084 | E225: 473.087 | F225: 4869.9162
... B244: 12000000 | C244: # المتحصلات من الحيازة | D244: 36055.594 | E244: 66750.167 | F244: 43011.509
E245: ='المصروفات اقتصادي'!E9-'الموارد اقتصادي'!E10 -> 0 | F245: ='المصروفات اقتصادي'!F9-'الموارد اقتصادي'!F10 -> 0

Sheet المصروفات اقتصادي
C1: المصروفات بالتقسيم الاقتصادي
C2: ختامي 2024/2023
C4: البيـــــان | D4: ختامي السنة المالية 2023/2022 | E4: ختامي الموازنة العامة للدولة للسنة المالية 2024/2023
E5: ربط أصلي | F5: الفعلي
B9: 20000000 | C9: الاستخدامات | D9: 3078978.9 | E9: 4349214.2 | F9: 4374402.7
B10: 21000000 | C10: # المصروفات | D10: 2184593.6 | E10: 2990924.5 | F10: 3055194.4
B11: 21100000 | C11: ـ الأجور والتعويضات للعاملين | D11: 412463.43 | E11: 470000 | F11: 512694.67
B12: 21110000 | C12: = الاجور والبدلات النقدية والعينية | D12: 338232.63 | E12: 368667.29 | F12: 423195.82
B13: 21110100 | C13: * الوظائف الدائمة | D13: 100227.27 | E13: 102035.04 | F13: 107125.15
B14: 21110101 | C14: x المرتبات الاساسية | D14: 47740.248 | E14: 48749.009 | F14: 53565.209
B15: 21110102 | C15: x تكاليف المعارين و تتحمل الموازنة مرتباتهم | D15: 691.54044 | E15: 485.56 | F15: 983.18866
B16: 21110103 | C16: x تكاليف الاجازات الدراسية | D16: 0.227886 | E16: 0.55 | F16: 0.238596
B17: 21110104 | C17: x تكاليف المنح التدريبية | D17: 0.076467 | E17: 0.16 | F17: 0.139854
B18: 21110105 | C18: x الأجر الوظيفى | D18: 51596.422 | E18: 52602.017 | F18: 52275.844
B19: 21110106 | C19: x تكاليف أجور ومرتبات المخاطبين بأحكام القانون رقم (28) لسنة 2018 | D19: 198.75252 | E19: 197.742 | F19: 300.53314
B20: 21110200 | C20: * الوظائف المؤقتة | D20: 10163.793 | E20: 9970.167 | F20: 12935.63
... B111: 21110510 | C111: x تكاليف المقابل النقدى لرصيد الأجازات الاعتيادية | D111: 3179.9724 | E111: 3749.111 | F111: 2921.0656
B112: 21110511 | C112: x علاوة غلاء معيشة استثنائية | D112: 8510.6498 | E112: 13284.943 | F112: 22312.121
B113: 21110512 | C113: x علاوة الحد الآدنى للحزمة الاجتماعية | D113: 4510.6336 | E113: 9466.433 | F113: 18925.371
B114: 21110513 | C114: x علاوة الحد الآدنى للأجور من حاملى الشهادة العلمية "ماجستير ودكتوراه" | D114: 0.714399 | E114: 0 | F114: 37.758516
B115: 21110600 | C115: * المزايــا العينيــة | D115: 9452.1582 | E115: 10617.941 | F115: 10877.966
B116: 21110601 | C116: x أغذية للعاملين | D116: 5134.6304 | E116: 5593.04 | F116: 5952.6294
B117: 21110602 | C117: x ملابس للعاملين | D117: 1455.6673 | E117: 1862.257 | F117: 1708.3349
B118: 21110603 | C118: x علاج طبى للعاملين | D118: 2680.1455 | E118: 2992.846 | F118: 3014.3094
B119: 21110604 | C119: x خدمات اجتماعية ورياضية للعاملين | D119: 110.95032 | E119: 129.114 | F119: 117.46975
B120: 21110605 | C120: x اخـــرى | D120: 70.764716 | E120: 40.684 | F120: 85.222831
B121: 21120000 | C121: = المزايا التأمينية | D121: 47796.391 | E121: 47747.255 | F121: 58487.614
B122: 21120100 | C122: * حصة الحكومة فى صندوق التأمين الاجتماعى للحكومة | D122: 36504.405 | E122: 35947.105 | F122: 44745.348
B123: 21120101 | C123: x التأمين ضد الشيخوخة والعجز والوفاة | D123: 32709.17 | E123: 32003.67 | F123: 40035.12
B124: 21120102 | C124: x حصة الحكومة فى اشتراكات نظام المكافات | D124: 2850.8347 | E124: 3020.821 | F124: 3396.5905
B125: 21120103 | C125: x اشتراكات المدة السابقة | D125: 0 | E125: 0.411 | F125: 0.671809
B126: 21120104 | C126: x تكاليف مساهمة الحكومة فى التأمين على العاملات فى اجازة لرعاية أطفالهن | D126: 944.4006 | E126: 922.203 | F126: 1312.9656
... B251: 21221012 | C251: x نفقات مقابل الخدمات الإعلامية | D251: 1122.6955 | E251: 1126.41 | F251: 1144.8875
B252: 21221013 | C252: x نفقات خدمات التصديق الالكترونى الحكومية | D252: 0.124501 | E252: 0.321 | F252: 10.970897
B253: 21221014 | C253: x نفقات التأمين على ارباب العهد | D253: 5.889911 | E253: 13.262 | F253: 14.820384
B254: 21230000 | C254: = شراء السلع والخدمات الاجمالية والاحتياطيات العامة | D254: 1025.3017 | E254: 16848.135 | F254: 1865.956
B255: 21230100 | C255: * شراء السلع والخدمات الاجمالية | D255: 1025.3017 | E255: 1110.27 | F255: 1865.956
B256: 21230101 | C256: x شراء سلع وخدمات اجماليــة مدرجة بموازنات الجهات | D256: 1025.3017 | E256: 1094.77 | F256: 1865.956
B257: 21230200 | C257: * المتطلبات الاضافية لشراء السلع والخدمات | D257: 0 | E257: 15737.865 | F257: 0
B258: 21300000 | C258: ـ الفوائد | D258: 774202.58 | E258: 1120085.9 | F258: 1364088.7
B259: 21310000 | C259: = فوائد خارجية | D259: 108045.59 | E259: 152611.77 | F259: 187495
B260: 21310100 | C260: * فوائد خارجية (لغير المقيمين) | D260: 108045.59 | E260: 152611.77 | F260: 187495
B261: 21310101 | C261: x فوائد الدين العام الخارجى | D261: 107528.07 | E261: 152250.14 | F261: 187280.83
B262: 21310102 | C262: x فوائد خارجية تسددها الجهات | D262: 517.52189 | E262: 361.626 | F262: 214.17622
B263: 21320000 | C263: = فوائد محلية (المقيمين) | D263: 666156.98 | E263: 967474.09 | F263: 1176593.7
B264: 21320100 | C264: * بخلاف وحدات الحكومة العامة | D264: 661336.79 | E264: 959292.95 | F264: 1167894.5
... B277: 21410100 | C277: * لمؤسسات غيرمالية | D277: 266941.15 | E277: 316119.17 | F277: 345453.81
A278: 21410104 | B278: 21410101 | C278: x دعم السلع التموينية والمزراعين | D278: 122110.54 | E278: 128244.54 | F278: 133818.64 | H278: 21410104 | I278: x دعم المزارعين
A279: 21410105 | B279: 21410102 | C279: x دعم الطاقة | D279: 127713.19 | E279: 119419 | F279: 167555.74 | H279: 21410105 | I279: x دعم الكهرباء
B280: 21410106 | C280: x دعم نقل الركاب | D280: 1901 | E280: 1780 | F280: 2227.78
B281: 21410107 | C281: x التأمين الصحى والادوية | D281: 1872.0701 | E281: 6034.867 | F281: 3353.0148
A282: 21410109 | B282: 21410108 | C282: x دعم الانتاج الصناعى وتنمية الصعيد | D282: 1469.6401 | E282: 19900 | F282: 11389.635 | H282: 21410109 | I282: x دعم تنمية الصعيد
B283: 21410110 | C283: x أخـــــــرى | D283: 9915.3305 | E283: 12615.99 | F283: 14268.557
B284: 21410200 | C284: * لمؤسسات مالية | D284: 8905.7465 | E284: 11483.695 | F284: 11389.401
B285: 21410201 | C285: x دعم فائدة القروض الميسرة | D285: 231.574 | E285: 250 | F285: 202.07109
B286: 21410202 | C286: x دعم اسكان محدودى الدخل | D286: 4379.7542 | E286: 10233.595 | F286: 10237.33
B287: 21410203 | C287: x أخــــــــرى | D287: 4294.4183 | E287: 1000.1 | F287: 950
B288: 21420000 | C288: = المنح | D288: 12852.083 | E288: 13281.118 | F288: 25783.679
B289: 21420100 | C289: * المنح للحكومات الأجنبية | D289: 279.52871 | E289: 309.338 | F289: 357.04536
B290: 21420200 | C290: * منح للمنظمات الدولية | D290: 0.23 | E290: 0.23 | F290: 0.318
B291: 21420300 | C291: * منح لجهات الحكومة العامة | D291: 12572.325 | E291: 12971.55 | F291: 25426.316
B292: 21430000 | C292: = مزايا اجتماعية | D292: 164334.94 | E292: 178338.25 | F292: 189274.2
B293: 21430100 | C293: * مزايا للأمان الإجتماعى | D293: 23981.388 | E293: 31273.358 | F293: 35703.427
B294: 21430101 | C294: x معاش الضمان الاجتماعى | D294: 23736.465 | E294: 31000 | F294: 35218.082
... B371: 23000000 | C371: # سداد القروض | D371: 869101.44 | E371: 1315914.1 | F371: 1283205.2

Sheet التقسيم الاداري
B1: التقسيم الاداري للمصروفات
C2: الجهاز الإداري | D2: الإدارة المحلية | E2: الهيئات الخدمية | F2: الإجمالى
A3: 20000000 | B3: الاستخدامات | C3: 3775143.6 | D3: 285264.99 | E3: 313994.13 | F3: =SUM(C3:E3) -> 4374402.7
A4: 21000000 | B4: # المصروفات | C4: 2476199.4 | D4: 284575.77 | E4: 294419.23 | F4: =SUM(C4:E4) -> 3055194.4
A5: 21100000 | B5: ـ الأجور والتعويضات للعاملين | C5: 202152.19 | D5: 227014 | E5: 83528.478 | F5: =SUM(C5:E5) -> 512694.67
A6: 21110000 | B6: = الاجور والبدلات النقدية والعينية | C6: 154298.15 | D6: 194720.5 | E6: 74177.17 | F6: =SUM(C6:E6) -> 423195.82
A7: 21110100 | B7: * الوظائف الدائمة | C7: 35312.546 | D7: 57273.17 | E7: 14539.437 | F7: =SUM(C7:E7) -> 107125.15
A8: 21110101 | B8: x المرتبات الاساسية | C8: 16366.26 | D8: 33298.984 | E8: 3899.9652 | F8: =SUM(C8:E8) -> 53565.209
A9: 21110102 | B9: x تكاليف المعارين و تتحمل الموازنة مرتباتهم | C9: 982.77203 | D9: 0.416636 | E9: 0 | F9: =SUM(C9:E9) -> 983.18866
A10: 21110103 | B10: x تكاليف الاجازات الدراسية | C10: 0 | D10: 0 | E10: 0.238596 | F10: =SUM(C10:E10) -> 0.238596
A11: 21110104 | B11: x تكاليف المنح التدريبية | C11: 0.139854 | D11: 0 | E11: 0 | F11: =SUM(C11:E11) -> 0.139854
A12: 21110105 | B12: x الأجر الوظيفى | C12: 17672.801 | D12: 23973.769 | E12: 10629.273 | F12: =SUM(C12:E12) -> 52275.844
A13: 21110106 | B13: x تكاليف أجور ومرتبات المخاطبين بأحكام القانون رقم (28) لسنة 2018 | C13: 290.57355 | D13: 0 | E13: 9.959598 | F13: =SUM(C13:E13) -> 300.53314
A14: 21110200 | B14: * الوظائف المؤقتة | C14: 2611.6859 | D14: 1915.814 | E14: 8408.1296 | F14: =SUM(C14:E14) -> 12935.63
... A104: 21110510 | B104: x تكاليف المقابل النقدى لرصيد الأجازات الاعتيادية | C104: 781.65455 | D104: 2013.8334 | E104: 125.5776 | F104: =SUM(C104:E104) -> 2921.0656
A105: 21110511 | B105: x علاوة غلاء معيشة استثنائية | C105: 6255.9398 | D105: 12911.184 | E105: 3144.998 | F105: =SUM(C105:E105) -> 22312.121
A106: 21110512 | B106: x علاوة الحد الآدنى للحزمة الاجتماعية | C106: 6035.9659 | D106: 9991.1817 | E106: 2898.2236 | F106: =SUM(C106:E106) -> 18925.371
A107: 21110513 | B107: x علاوة الحد الآدنى للأجور من حاملى الشهادة العلمية "ماجستير ودكتوراه" | C107: 3.998836 | D107: 22.941332 | E107: 10.818348 | F107: =SUM(C107:E107) -> 37.758516
A108: 21110600 | B108: * المزايــا العينيــة | C108: 8242.534 | D108: 660.97222 | E108: 1974.4601 | F108: =SUM(C108:E108) -> 10877.966
A109: 21110601 | B109: x أغذية للعاملين | C109: 4482.2016 | D109: 658.67121 | E109: 811.75663 | F109: =SUM(C109:E109) -> 5952.6294
A110: 21110602 | B110: x ملابس للعاملين | C110: 1663.9277 | D110: 2.081656 | E110: 42.325571 | F110: =SUM(C110:E110) -> 1708.3349
A111: 21110603 | B111: x علاج طبى للعاملين | C111: 1906.6038 | D111: 0.061647 | E111: 1107.644 | F111: =SUM(C111:E111) -> 3014.3094
A112: 21110604 | B112: x خدمات اجتماعية ورياضية للعاملين | C112: 104.92089 | D112: 0.157714 | E112: 12.391144 | F112: =SUM(C112:E112) -> 117.46975
A113: 21110605 | B113: x اخـــرى | C113: 84.880117 | D113: 0 | E113: 0.342714 | F113: =SUM(C113:E113) -> 85.222831
A114: 21120000 | B114: = المزايا التأمينية | C114: 16875.656 | D114: 32293.497 | E114: 9318.4604 | F114: =SUM(C114:E114) -> 58487.614
A115: 21120100 | B115: * حصة الحكومة فى صندوق التأمين الاجتماعى للحكومة | C115: 13052.038 | D115: 24578.449 | E115: 7114.8607 | F115: =SUM(C115:E115) -> 44745.348
A116: 21120101 | B116: x التأمين ضد الشيخوخة والعجز والوفاة | C116: 11885.91 | D116: 21875.296 | E116: 6273.9146 | F116: =SUM(C116:E116) -> 40035.12
A117: 21120102 | B117: x حصة الحكومة فى اشتراكات نظام المكافات | C117: 1001.488 | D117: 1854.5245 | E117: 540.5779 | F117: =SUM(C117:E117) -> 3396.5905
A118: 21120104 | B118: x تكاليف مساهمة الحكومة فى التأمين على العاملات فى اجازة لرعاية أطفالهن | C118: 163.96865 | D118: 848.62879 | E118: 300.36815 | F118: =SUM(C118:E118) -> 1312.9656
A119: 21120200 | B119: * مزايا تأمينية أخرى | C119: 3823.6181 | D119: 7715.0482 | E119: 2203.5997 | F119: =SUM(C119:E119) -> 13742.266
... A239: 21221012 | B239: x نفقات مقابل الخدمات الإعلامية | C239: 1102.6921 | D239: 0 | E239: 42.195473 | F239: =SUM(C239:E239) -> 1144.8875
A240: 21221013 | B240: x نفقات خدمات التصديق الالكترونى الحكومية | C240: 7.158322 | D240: 1.960732 | E240: 1.851843 | F240: =SUM(C240:E240) -> 10.970897
A241: 21221014 | B241: x نفقات التأمين على ارباب العهد | C241: 2.633925 | D241: 5.390908 | E241: 6.795551 | F241: =SUM(C241:E241) -> 14.820384
A242: 21230000 | B242: = شراء السلع والخدمات الاجمالية والاحتياطيات العامة | C242: 1758.3622 | D242: 0 | E242: 107.59377 | F242: =SUM(C242:E242) -> 1865.956
A243: 21300000 | B243: ـ الفوائد | C243: 1360846.1 | D243: 953.62218 | E243: 2288.9762 | F243: =SUM(C243:E243) -> 1364088.7
A244: 21310000 | B244: = فوائد خارجية | C244: 187459.91 | D244: 9.815298 | E244: 25.281448 | F244: =SUM(C244:E244) -> 187495
A245: 21310100 | B245: * فوائد خارجية (لغير المقيمين) | C245: 187459.91 | D245: 9.815298 | E245: 25.281448 | F245: =SUM(C245:E245) -> 187495
A246: 21310101 | B246: x فوائد الدين العام الخارجى | C246: 187280.83 | D246: 0 | E246: 0 | F246: =SUM(C246:E246) -> 187280.83
A247: 21310102 | B247: x فوائد خارجية تسددها الجهات | C247: 179.07947 | D247: 9.815298 | E247: 25.281448 | F247: =SUM(C247:E247) -> 214.17622
A248: 21320000 | B248: = فوائد محلية (المقيمين) | C248: 1173386.2 | D248: 943.80688 | E248: 2263.6948 | F248: =SUM(C248:E248) -> 1176593.7
A249: 21320100 | B249: * بخلاف وحدات الحكومة العامة | C249: 1167894 | D249: 0.460197 | E249: 0 | F249: =SUM(C249:E249) -> 1167894.5
A250: 21320101 | B250: x فوائد سندات البنك المركزى | C250: 98705.942 | D250: 0 | E250: 0 | F250: =SUM(C250:E250) -> 98705.942
A251: 21320104 | B251: x فوائد السندات الدولارية بالعجز فى مركز العملات الأجنبية | C251: 20578.773 | D251: 0 | E251: 0 | F251: =SUM(C251:E251) -> 20578.773
A252: 21320105 | B252: x فوائد الأذون على الخزانة العامة | C252: 500869.49 | D252: 0 | E252: 0 | F252: =SUM(C252:E252) -> 500869.49
... A355: 23000000 | B355: # سداد القروض | C355: 1264138.1 | D355: 689.21384 | E355: 18377.929 | F355: =SUM(C355:E355) -> 1283205.2

Sheet وظيفي 2023 ومقارن بالمليون
A1: الحساب الختامي للموازنة العامة للدولة من السنة المالية 2022/2021 حتى 2023 / 2024
A2: ( المصروفات ) | M2: بالمليون الجنيه
A3: البيــــــــــان | B3: ختامى السنة المالية 2024/2023 | K3: ختامى السنة المالية 2023/2022 | L3: ختامى السنة المالية 2022/2021 | M3: ختامي السنة المالية 2021/2020
B4: الربط الأصلي | C4: الربط المعدل | D4: الباب الاول - الاجور والتعويضات للعاملين | E4: الباب الثاني - شراء السلع والخدمات | F4: الباب الثالث - الفوائد | G4: الباب الرابع - الدعم والمنح والمزايا الاجتماعية | H4: الباب الخامس -المصروفات الاخري | I4: الباب السادس - شراء الاصول غير المالية (الاستثمارات) | J4: جملة المصروفات
A5: قطاع الامن والعدالة والحماية الاجتماعية | B5: 2044964 | C5: 2280330 | D5: 152934 | E5: 47787 | F5: 1358247 | G5: 507302 | H5: 128710 | I5: 49149 | J5: 2244129 | K5: 1529046 | L5: 1186870 | M5: 1389710.9
A6: قطاع البنية التحتية والشئون الاقتصادية | B6: 498515 | C6: 570669 | D6: 24405 | E6: 17535 | F6: 4148 | G6: 40156 | H6: 7005 | I6: 180917 | J6: 274166 | K6: 229465 | L6: 254472 | M6: 203804.4
A7: قطاع التنمية البشرية | B7: 447445 | C7: 554257 | D7: 335356 | E7: 81080 | F7: 1694 | G7: 25550 | H7: 11548 | I7: 81672 | J7: 536900 | K7: 426083 | L7: 389680 | M7: 546935.2
A8: الاجمالي العام | B8: =SUM(B5:B7) -> 2990924 | C8: =SUM(C5:C7) -> 3405256 | D8: =SUM(D5:D7) -> 512695 | E8: =SUM(E5:E7) -> 146402 | F8: =SUM(F5:F7) -> 1364089 | G8: =SUM(G5:G7) -> 573008 | H8: =SUM(H5:H7) -> 147263 | I8: =SUM(I5:I7) -> 311738 | ... M8: =SUM(M5:M7) -> 2140450.5

Sheet مجمع تفصيلي بالمليون
C1: الحساب الختامي للموازنة العامة للدولة عن السنة المالية 2023 / 2024
A2: بيان بتبعية الهيئات الموازنية للقطاعات الجديدة وفقا للهيكلة
A3: جهات قطاع الامن والعدالة والحماية الاجتماعية | C3: البيان | E3: ختامي السنة المالية 2024/2023
E4: الربط الأصلي | F4: الربط المعدل | G4: الفعلي
A5: أولا :- جهات الموازنة العامة للدولة | G5: الباب الاول | H5: الباب الثانى | I5: الباب الثالث | J5: الباب الرابع | K5: الباب الخامس | L5: الباب السادس | M5: المصروفات
C6: الإجمالي | E6: =E7+E8+E176 -> 2990924 | F6: =F7+F8+F176 -> 3405256 | G6: =G7+G8+G176 -> 512695 | H6: =H7+H8+H176 -> 146402 | I6: =I7+I8+I176 -> 1364089 | J6: =J7+J8+J176 -> 573008 | K6: =K7+K8+K176 -> 147263 | L6: =L7+L8+L176 -> 311738 | M6: =M7+M8+M176 -> 3055195
A7: الكود | B7: الفرعى | C7: جملة قطاع الامن والعدالة والحماية الاجتماعية | E7: 2044964 | F7: 2280330 | G7: 152934 | H7: 47787 | I7: 1358247 | J7: 507302 | K7: 128710 | L7: 49149 | M7: =SUM(G7:L7) -> 2244129
A8: الكود | B8: الفرعى | C8: جملة قطاع البنية التحتية والشئون الاقتصادية | E8: 498515 | F8: 570669 | G8: 24405 | H8: 17535 | I8: 4148 | J8: 40156 | K8: 7005 | L8: 180917 | M8: =SUM(G8:L8) -> 274166
C9: 12900100 | D9: مكتب وزير الدولة لشئون البيئة | E9: 14 | F9: 11 | G9: 8 | H9: 3 | I9: 0 | J9: 0 | K9: 0 | L9: 0 | M9: 11
C10: 12900200 | D10: جهاز شئون البيئة | E10: 923 | F10: 1457 | G10: 397 | H10: 123 | I10: 53 | J10: 24 | K10: 239 | L10: 475 | M10: 1312
C11: 13000100 | D11: ديوان عام وزارة الإسكان والمرافق والمجتمعات العمرانية | E11: 30843 | F11: 36037 | G11: 88 | H11: 22 | I11: 1415 | J11: 0 | K11: 9 | L11: 11216 | M11: 12752
C12: 13000200 | D12: ديوان عام المجتمعات العمرانية | E12: 12 | F12: 17 | G12: 10 | H12: 5 | I12: 0 | J12: 0 | K12: 0 | L12: 0 | M12: 16
C13: 13000300 | D13: الجهاز المركزى للتعمير | E13: 18544 | F13: 21810 | G13: 556 | H13: 164 | I13: 131 | J13: 139 | K13: 16 | L13: 20575 | M13: 21580
C14: 13000400 | D14: الجهاز التنفيذي لمياه الشرب والصرف الصحى | E14: 5781 | F14: 10411 | G14: 99 | H14: 729 | I14: 84 | J14: 2 | K14: 68 | L14: 8963 | M14: 9945
C15: 32104700 | D15: صندوق البحوث والدراسات الداخلة في مجال أنشطة التعمير | E15: 69 | F15: 66 | G15: 20 | H15: 4 | I15: 0 | J15: 4 | K15: 0 | L15: 36 | M15: 64
C16: 32105100 | D16: الهيئه العامه لنظافة وتجميل القاهرة | E16: 2211 | F16: 4765 | G16: 942 | H16: 3236 | I16: 0 | J16: 32 | K16: 277 | L16: 172 | M16: 4659
C17: 32105200 | D17: الهيئه العامه للنظافه والتجميل بمحافظة الجيزة | E17: 811 | F17: 911 | G17: 548 | H17: 174 | I17: 0 | J17: 64 | K17: 9 | L17: 90 | M17: 884
C18: 32105300 | D18: الجهاز التنظيمي لمياه الشرب والصرف الصحى وحماية المستهلك | E18: 28 | F18: 46 | G18: 34 | H18: 7 | I18: 0 | J18: 1 | K18: 0 | L18: 4 | M18: 46
C19: 32105400 | D19: الهيئه العامه للتخطيط العمرانى | E19: 155 | F19: 261 | G19: 50 | H19: 11 | I19: 0 | J19: 1 | K19: 0 | L19: 168 | M19: 230
C20: 32105500 | D20: الهيئه القوميه لمياه الشرب والصرف الصحي | E20: 15729 | F20: 15016 | G20: 318 | H20: 38 | I20: 804 | J20: 24 | K20: 0 | L20: 13831 | M20: 15014
... C175: 22700700 | D175: مديرية الطب البيطرى بالأقصر | E175: 18 | F175: 22 | G175: 14 | H175: 2 | I175: 0 | J175: 0 | K175: 0 | L175: 5 | M175: 21
A176: الكود | B176: الفرعى | C176: جملة قطاع التنمية البشرية | E176: 447445 | F176: 554257 | G176: 335356 | H176: 81080 | I176: 1694 | J176: 25550 | K176: 11548 | L176: 81672 | M176: =SUM(G176:L176) -> 536900
C177: 10300800 | D177: صندوق الرعاية الاجتماعية للمعلمين بالمهن التعليمية ومعاونيهم | E177: 7 | F177: 7 | G177: 0 | H177: 0 | I177: 0 | J177: 0 | K177: 0 | L177: 0 | M177: 0
C178: 11400200 | D178: قطاع التدريب | E178: 149 | F178: 163 | G178: 128 | H178: 34 | I178: 0 | J178: 0 | K178: 0 | L178: 0 | M178: 162
C179: 11700800 | D179: مصلحة الكفاية الإنتاجية والتدريب المهني | E179: 286 | F179: 270 | G179: 192 | H179: 14 | I179: 8 | J179: 0 | K179: 0 | L179: 16 | M179: 230
C180: 13500100 | D180: ديوان عام وزارة التربية والتعليم | E180: 16489 | F180: 31359 | G180: 2059 | H180: 13983 | I180: 322 | J180: 154 | K180: 96 | L180: 13597 | M180: 30211
C181: 32107700 | D181: المركز الإقليمي لتعليم الكبار | E181: 14 | F181: 13 | G181: 11 | H181: 1 | I181: 0 | J181: 0 | K181: 0 | L181: 0 | M181: 11
C182: 32107800 | D182: الهيئة العامة لمحو الأمية وتعليم الكبار | E182: 634 | F182: 741 | G182: 661 | H182: 15 | I182: 0 | J182: 2 | K182: 0 | L182: 1 | M182: 680
C183: 32107900 | D183: الهيئة العامة للأبنية التعليمية | E183: 9741 | F183: 8804 | G183: 740 | H183: 368 | I183: 4 | J183: 36 | K183: 21 | L183: 7406 | M183: 8575
C184: 32108000 | D184: صندوق دعم وتمويل المشروعات التعليمية | E184: 1600 | F184: 3128 | G184: 54 | H184: 11 | I184: 0 | J184: 0 | K184: 3034 | L184: 0 | M184: 3099
C185: 32108100 | D185: المركز القومي للامتحانات | E185: 47 | F185: 52 | G185: 41 | H185: 3 | I185: 0 | J185: 0 | K185: 0 | L185: 5 | M185: 49
C186: 32108300 | D186: المركز القومي للبحوث التربوية والتنمية | E186: 42 | F186: 44 | G186: 42 | H186: 1 | I186: 0 | J186: 0 | K186: 0 | L186: 1 | M186: 43
C187: 32109200 | D187: الاكاديمية المهنية للمعلمين | E187: 41 | F187: 56 | G187: 40 | H187: 5 | I187: 0 | J187: 0 | K187: 8 | L187: 3 | M187: 56
C188: 20101200 | D188: مديرية التربية والتعليم بالقاهرة | E188: 9021 | F188: 9709 | G188: 9186 | H188: 240 | I188: 0 | J188: 102 | K188: 95 | L188: 1 | M188: 9624
... C317: 13105100 | D317: مستشفى سمالوط | E317: 129 | F317: 252 | G317: 132 | H317: 108 | I317: 0 | J317: 3 | K317: 8 | L317: 0 | M317: 251
B318: 10101299 | C318: 13105200 | D318: مستشفى داير مواس | E318: 86 | F318: 167 | G318: 88 | H318: 70 | I318: 0 | J318: 1 | K318: 8 | L318: 0 | M318: 166
B319: 10200199 | C319: 13105300 | D319: مستشفى ملوى | E319: 181 | F319: 302 | G319: 170 | H319: 106 | I319: 0 | J319: 5 | K319: 17 | L319: 1 | M319: 299
B320: 10200299 | C320: 13105400 | D320: مستشفى العجمى | E320: 73 | F320: 174 | G320: 76 | H320: 78 | I320: 0 | J320: 7 | K320: 9 | L320: 0 | M320: 170
B321: 10300199 | C321: 13105500 | D321: مستشفى طوارئ فاقوس | E321: 32 | F321: 43 | G321: 25 | H321: 15 | I321: 0 | J321: 1 | K321: 1 | L321: 0 | M321: 42
C322: 13105600 | D322: مستشفى كبد ههيا | E322: 34 | F322: 71 | G322: 39 | H322: 30 | I322: 0 | J322: 0 | K322: 1 | L322: 0 | M322: 70
B323: 10700199 | C323: 13105700 | D323: مستشفى بلطيم | E323: 92 | F323: 129 | G323: 71 | H323: 42 | I323: 0 | J323: 0 | K323: 6 | L323: 1 | M323: 120
B324: 11200199 | C324: 13105800 | D324: مستشفى الخارجة | E324: 86 | F324: 126 | G324: 71 | H324: 48 | I324: 0 | J324: 2 | K324: 3 | L324: 0 | M324: 124
B325: 13700399 | C325: 13105900 | D325: مستشفى بئر العبد | E325: 120 | F325: 149 | G325: 91 | H325: 44 | I325: 0 | J325: 4 | K325: 4 | L325: 0 | M325: 142
B326: 32100199 | C326: 13106000 | D326: مستشفى كوم حمادة | E326: 148 | F326: 204 | G326: 167 | H326: 29 | I326: 0 | J326: 0 | K326: 5 | L326: 1 | M326: 202
B327: 32100999 | C327: 13106100 | D327: مستشفى محلة مرحوم | E327: 40 | F327: 49 | G327: 38 | H327: 7 | I327: 0 | J327: 0 | K327: 0 | L327: 0 | M327: 45
B328: 32110499 | C328: 13106200 | D328: مستشفي العلمين | E328: 57 | F328: 70 | G328: 42 | H328: 22 | I328: 0 | J328: 0 | K328: 0 | L328: 0 | M328: 64
B329: 20100199 | C329: 13106300 | D329: مستشفي الباجور | E329: 186 | F329: 213 | G329: 158 | H329: 47 | I329: 0 | J329: 0 | K329: 3 | L329: 0 | M329: 207
B330: 20200199 | C330: 13106400 | D330: مستشفي دمياط التخصصي | E330: 208 | F330: 238 | G330: 138 | H330: 72 | I330: 0 | J330: 0 | K330: 8 | L330: 0 | M330: 218
B331: 20300199 | C331: 13106500 | D331: مستشفي المنصورة العام الجديد (المستشفي الدولي) | E331: 367 | F331: 398 | G331: 237 | H331: 118 | I331: 0 | J331: 1 | K331: 10 | L331: 2 | M331: 367
B332: 20400199 | C332: 13106600 | D332: مستشفي قلين المركزي | E332: 91 | F332: 119 | G332: 75 | H332: 28 | I332: 0 | J332: 0 | K332: 3 | L332: 0 | M332: 105
B333: 20500199 | C333: 13106700 | D333: مستشفي ناصر العام | E333: 151 | F333: 178 | G333: 99 | H333: 56 | I333: 0 | J333: 2 | K333: 6 | L333: 0 | M333: 163
B334: 20600199 | C334: 13106800 | D334: مستشفي سيدي براني المركزي | E334: 26 | F334: 25 | G334: 10 | H334: 7 | I334: 0 | J334: 0 | K334: 1 | L334: 0 | M334: 18
... B476: 11600199 | C476: 14200100 | D476: ديوان عام وزارة الشباب والرياضة | E476: 2840 | F476: 3525 | G476: 333 | H476: 86 | I476: 0 | J476: 1395 | K476: 201 | L476: 1221 | M476: 3236
B477: 32101399 | C477: 14800100 | D477: وزارة الدولة للإعلام | E477: 6 | F477: 6 | G477: 0 | H477: 0 | I477: 0 | J477: 0 | K477: 0 | L477: 0 | M477: 0
B478: 32101499 | C478: 20101100 | D478: مديرية الشباب والرياضة بالقاهرة | E478: 141 | F478: 140 | G478: 130 | H478: 1 | I478: 0 | J478: 4 | K478: 0 | L478: 0 | M478: 134
B479: 32101599 | C479: 20201100 | D479: مديرية الشباب والرياضة بالجيزة | E479: 122 | F479: 138 | G479: 126 | H479: 1 | I479: 0 | J479: 6 | K479: 0 | L479: 2 | M479: 135
C480: 20301100 | D480: مديرية الشباب والرياضة بالقليوبية | E480: 123 | F480: 132 | G480: 116 | H480: 0 | I480: 0 | J480: 4 | K480: 0 | L480: 9 | M480: 129
B481: 32101699 | C481: 20401100 | D481: مديرية الشباب والرياضة بالغربية | E481: 277 | F481: 281 | G481: 267 | H481: 1 | I481: 0 | J481: 7 | K481: 0 | L481: 4 | M481: 279
B482: 10601199 | C482: 20501100 | D482: مديرية الشباب والرياضة بالمنوفية | E482: 200 | F482: 197 | G482: 184 | H482: 1 | I482: 0 | J482: 5 | K482: 0 | L482: 4 | M482: 193
B483: 10601299 | C483: 20601100 | D483: مديرية الشباب والرياضة بكفرالشيخ | E483: 145 | F483: 133 | G483: 121 | H483: 1 | I483: 0 | J483: 5 | K483: 0 | L483: 0 | M483: 127
B484: 10601399 | C484: 20701100 | D484: مديرية الشباب والرياضة بالدقهلية | E484: 388 | F484: 415 | G484: 399 | H484: 1 | I484: 0 | J484: 9 | K484: 0 | L484: 4 | M484: 413
B485: 10601499 | C485: 20801100 | D485: مديرية الشباب والرياضة بدمياط | E485: 50 | F485: 52 | G485: 41 | H485: 1 | I485: 0 | J485: 3 | K485: 0 | L485: 7 | M485: 51
B486: 10601599 | C486: 20901100 | D486: مديرية الشباب والرياضة بالإسكندرية | E486: 85 | F486: 88 | G486: 78 | H486: 2 | I486: 0 | J486: 2 | K486: 0 | L486: 5 | M486: 86
C487: 21001100 | D487: مديرية الشباب والرياضة بمطروح | E487: 19 | F487: 20 | G487: 13 | H487: 1 | I487: 0 | J487: 3 | K487: 0 | L487: 2 | M487: 18
C488: 21101100 | D488: مديرية الشباب والرياضة بالبحيرة | E488: 166 | F488: 187 | G488: 170 | H488: 1 | I488: 0 | J488: 7 | K488: 0 | L488: 8 | M488: 185
C489: 21201100 | D489: مديرية الشباب والرياضة ببورسعيد | E489: 55 | F489: 56 | G489: 51 | H489: 0 | I489: 0 | J489: 1 | K489: 0 | L489: 3 | M489: 55
C490: 21301100 | D490: مديرية الشباب والرياضة بالإسماعيلية | E490: 45 | F490: 47 | G490: 37 | H490: 1 | I490: 0 | J490: 3 | K490: 0 | L490: 1 | M490: 42
C491: 21401100 | D491: مديرية الشباب والرياضة بالسويس | E491: 29 | F491: 29 | G491: 21 | H491: 1 | I491: 0 | J491: 1 | K491: 0 | L491: 4 | M491: 26
C492: 21501100 | D492: مديرية الشباب والرياضة بالبحر الأحمر | E492: 35 | F492: 36 | G492: 25 | H492: 3 | I492: 0 | J492: 1 | K492: 0 | L492: 3 | M492: 32
C493: 21601100 | D493: مديرية الشباب والرياضة بشمال سيناء | E493: 129 | F493: 143 | G493: 124 | H493: 4 | I493: 0 | J493: 2 | K493: 0 | L493: 5 | M493: 135
C494: 21701100 | D494: مديرية الشباب والرياضة بجنوب سيناء | E494: 25 | F494: 27 | G494: 20 | H494: 1 | I494: 0 | J494: 1 | K494: 0 | L494: 4 | M494: 26
C495: 21801100 | D495: مديرية الشباب والرياضة بالشرقية | E495: 260 | F495: 274 | G495: 258 | H495: 1 | I495: 0 | J495: 9 | K495: 0 | L495: 5 | M495: 272
C496: 21901100 | D496: مديرية الشباب والرياضة بالفيوم | E496: 101 | F496: 101 | G496: 92 | H496: 1 | I496: 0 | J496: 2 | K496: 0 | L496: 4 | M496: 98
C497: 22001100 | D497: مديرية الشباب والرياضة ببنى سويف | E497: 118 | F497: 120 | G497: 108 | H497: 1 | I497: 0 | J497: 4 | K497: 0 | L497: 6 | M497: 119
C498: 22101100 | D498: مديرية الشباب والرياضة بالمنيا | E498: 139 | F498: 148 | G498: 137 | H498: 1 | I498: 0 | J498: 4 | K498: 0 | L498: 5 | M498: 147
... C504: 22701100 | D504: مديرية الشباب والرياضة بالأقصر | E504: 91 | F504: 89 | G504: 75 | H504: 6 | I504: 0 | J504: 2 | K504: 0 | L504: 1 | M504: 84
