Workbook
Name www: #REF!
Name www: #REF!
Name ج_التموين_والتجارة: '[1]ميزانيات الوحدات '!#REF!
Name ج_التموين_والتجارة: '[1]ميزانيات الوحدات '!#REF!
Name ذ_الثقافة_والاعلام: '[1]ميزانيات الوحدات '!#REF!
Name ذ_الثقافة_والاعلام: '[1]ميزانيات الوحدات '!#REF!
Name ر_السياحة: '[1]ميزانيات الوحدات '!#REF!
Name ر_السياحة: '[1]ميزانيات الوحدات '!#REF!
Name ز_الدفاع_والأمن: '[1]ميزانيات الوحدات '!#REF!
Name ز_الدفاع_والأمن: '[1]ميزانيات الوحدات '!#REF!
Name س_التأمينات_والشئون_الاجتماعية: '[1]ميزانيات الوحدات '!#REF!
Name س_التأمينات_والشئون_الاجتماعية: '[1]ميزانيات الوحدات '!#REF!
Name ش_جهاز_تنظيم__السلكية_واللاسلكية: '[1]ميزانيات الوحدات '!#REF!
Name ش_جهاز_تنظيم__السلكية_واللاسلكية: '[1]ميزانيات الوحدات '!#REF!
Name ش146: #REF!
Name ش146: #REF!
Name ص_بنك_التنمية_الرئيسى_للإئتمان_الزراعى: '[1]ميزانيات الوحدات '!#REF!
Name ص_بنك_التنمية_الرئيسى_للإئتمان_الزراعى: '[1]ميزانيات الوحدات '!#REF!
Name صفحةأ_بيانى: '[2]الرسم البيانى'!#REF!
Name صفحةأ_بيانى: '[2]الرسم البيانى'!#REF!
Name صفحةغ_كفاية_الاستثمار: #REF!
Name صفحةغ_كفاية_الاستثمار: #REF!

Sheet الإجمالية
A1: ختامى الموازنة العامة للدولة
A2: للسنة المالية 2023/2022
A3: البيــــــــان | B3: ربط 2023/2022 | D3: يوليو - يونيه السنة المالية 2023/2022 | K3: ختامى السنة المالية 2022/2021 | L3: الانحراف (2-3) | M3: أسباب الانحرافات
B4: الاصلى | C4: المعدل | D4: فعلى ممول من الخزانة العامة | E4: فعلى ممول من القروض | F4: فعلى ممول من المنح | G4: فعلى ممول ذاتيا | I4: الاجمالى | J4: نسبة الفعلي للربط
G5: من الصناديق والحسابات خاصة | H5: أخرى | J5: %
B6: (1) | C6: (2) | I6: (3) | J6: (2/3)
A7: # الإيرادات | B7: =SUM(B8:B10) -> 1517854.2 | C7: =SUM(C8:C10) -> 1614754.9 | D7: =SUM(D8:D10) -> 1388990.4 | E7: =SUM(E8:E10) -> 0 | F7: =SUM(F8:F10) -> 5431.7 | G7: =SUM(G8:G10) -> 95013.6 | H7: =SUM(H8:H10) -> 74485.6 | I7: =SUM(I8:I10) -> 1563921.3 | J7: =IF(ISERR((I7/C7)),0,(I7/C7)) -> 0.96851931 | K7: =SUM(K8:K10) -> 1347178.1 | L7: =I7-C7 -> -50833.6 | N7: =C7-B7 -> 96900.7
A8: ـ الضرائب | B8: 1168795.3 | C8: 1169245.3 | D8: 1255485.6 | E8: 0 | F8: 0 | G8: 0 | H8: 3096.7 | I8: 1258582.3 | J8: =IF(ISERR((I8/C8)),0,(I8/C8)) -> 1.0764057 | K8: 991402.5 | L8: =I8-C8 -> 89337 | M8: ترجع أسباب زيادة الفعلى المحصل عن الاعتماد المعدل الى زيادة الحصيلة الفعلية للانواع التالية:- - الضريبة على ارباح شركات الاموال (من هيئة البترول والشريك الاجنبى - من قناة السويس - باقى الشركات) - ضرائب على العمليات المالية التجارية والرأسمالية - الاتاوة على قناة السويس | N8: =C8-B8 -> 450
A9: ـ المنــح | B9: 911.9 | C9: 6399.7 | D9: 0 | E9: 0 | F9: 5431.7 | G9: 0 | H9: 0 | I9: 5431.7 | J9: =IF(ISERR((I9/C9)),0,(I9/C9)) -> 0.84874291 | K9: 4081.5 | L9: =I9-C9 -> -968 | M9: ترجع أسباب نقص الفعلى المحصل عن الاعتماد المعدل الى نقص الحصيلة الفعلية لكل من منح من حكومات أجنبية - منح من منظمات دولية - منح من جهات حكومية | N9: =C9-B9 -> 5487.8
A10: ـ الايرادات الاخرى | B10: 348147 | C10: 439109.9 | D10: 133504.8 | E10: 0 | F10: 0 | G10: 95013.6 | H10: 71388.9 | I10: 299907.3 | J10: =IF(ISERR((I10/C10)),0,(I10/C10)) -> 0.68298916 | K10: 351694.1 | L10: =I10-C10 -> -139202.6 | M10: ترجع أسباب نقص الفعلى المحصل عن الاعتماد المعدل الى نقص الحصيلة الفعلية لكل من:- - أرباح الأسهم (الهيئات الأقتصادية - شركات القطاع العام -هيئة البترول - قناة السويس) - اتاوة البترول - المحصل من موارد جارية من الصناديق والحسابات الخاصة - موارد ومصادر رأسمالية أخرى لتمويل الأستثمارات - ايرادات رأسمالية أخرى | N10: =C10-B10 -> 90962.9 | O10: =I7+I20 -> 1599976.9
A11: # المصروفات | B11: =SUM(B12:B17) -> 2070872 | C11: =SUM(C12:C17) -> 2333153.7 | D11: =SUM(D12:D17) -> 2008908 | E11: =SUM(E12:E17) -> 5668.9 | F11: =SUM(F12:F17) -> 5431.7 | G11: =SUM(G12:G17) -> 92004.6 | H11: =SUM(H12:H17) -> 72580.4 | I11: =SUM(I12:I17) -> 2184593.6 | J11: =IF(ISERR((I11/C11)),0,(I11/C11)) -> 0.93632648 | K11: =SUM(K12:K17) -> 1831022.2 | L11: =C11-I11 -> 148560.1 | N11: =C11-B11 -> 262281.7 | O11: =I11+I21+I25 -> 3078978.9
A12: ـ الاجور والتعويضات للعاملين | B12: 400000 | C12: 420029.1 | D12: 381615.7 | E12: 4.4 | F12: 24.1 | G12: 23417.6 | H12: 7401.6 | I12: 412463.4 | J12: =IF(ISERR((I12/C12)),0,(I12/C12)) -> 0.98198768 | K12: 358735.3 | L12: =C12-I12 -> 7565.7 | M12: ترجع أسباب نقص المنصرف الفعلى عن الاعتماد المعدل الى نقص المنصرف الفعلى للانواع التالية - الأجر الوظيفى - الأجر الوظيفى - المكافات - مزايــــا نقـــديــة - المزايــا العينيــة - المزايا التأمينية - احتياطيات عامة للاجور | N12: =C12-B12 -> 20029.1 | O12: =I7+I20+I24 -> 3078978.9
A13: ـ شراء السلع والخدمات | B13: 125600 | C13: 143918.2 | D13: 96815 | E13: 69.8 | F13: 4481.7 | G13: 17891.4 | H13: 8522.1 | I13: 127780 | J13: =IF(ISERR((I13/C13)),0,(I13/C13)) -> 0.88786547 | K13: 99579.57 | L13: =C13-I13 -> 16138.2 | M13: ترجع أسباب نقص المنصرف الفعلى عن الاعتماد المعدل الى نقص المنصرف الفعلى للانواع التالية:- - المواد الخام - نفقات الصيانة - نقل وانتقالات عامة - تكاليف البحوث والتطوير وتدريب العاملين - نفقات خدمية متنوعة | N13: =C13-B13 -> 18318.2
A14: ـ الفوائد | B14: 690149.7 | C14: 775160.7 | D14: 774066.7 | E14: 0 | F14: 0 | G14: 135.9 | H14: 0 | I14: 774202.6 | J14: =IF(ISERR((I14/C14)),0,(I14/C14)) -> 0.998764 | K14: 584825.7 | L14: =C14-I14 -> 958.1 | M14: ترجع أسباب نقص المنصرف الفعلى عن الاعتماد المعدل الى نقص المنصرف الفعلى للانواع التالية:- فوائد محلية (المقيمين) "لجهات اخرى (شاملة المحليات)" | N14: =C14-B14 -> 85011
A15: ـ الدعم والمنح والمزايا الإجتماعية | B15: 355993.5 | C15: 458982.1 | D15: 415311.3 | E15: 0 | F15: 27.2 | G15: 8151.1 | H15: 30611.3 | I15: 454100.9 | J15: =IF(ISERR((I15/C15)),0,(I15/C15)) -> 0.98936516 | K15: 343405.3 | L15: =C15-I15 -> 4881.2 | M15: ترجع أسباب نقص المنصرف الفعلى عن الاعتماد المعدل الى نقص المنصرف الفعلى للانواع التالية:- - منح لجهات الحكومة العامة "جاري" - نفقات خدمية لغير العاملين | N15: =C15-B15 -> 102988.6
A16: ـ المصروفات الأخرى | B16: 122700 | C16: 132582.6 | D16: 109004.1 | E16: 0 | F16: 0 | G16: 13491.5 | H16: 4564.1 | I16: 127059.7 | J16: =IF(ISERR((I16/C16)),0,(I16/C16)) -> 0.9583437 | K16: 114746.2 | L16: =C16-I16 -> 5522.9 | M16: ترجع أسباب نقص المنصرف الفعلى عن الاعتماد المعدل الى نقص المنصرف الفعلى للانواع التالية:- - ضرائب ورسوم - تحويلات جارية وتخصيصية أخرى | N16: =C16-B16 -> 9882.6
A17: ـ شراء الأصول غير المالية (الأستثمارات) | B17: 376428.8 | C17: 402481 | D17: 232095.2 | E17: 5594.7 | F17: 898.7 | G17: 28917.1 | H17: 21481.3 | I17: 288987 | J17: =IF(ISERR((I17/C17)),0,(I17/C17)) -> 0.71801402 | K17: 329730.1 | L17: =C17-I17 -> 113494 | M17: ترجع أسباب نقص المنصرف الفعلى عن الاعتماد المعدل الى نقص المنصرف الفعلى للانواع التالية:- - أستثمار مباشر (شاملة الرسوم الجمركية) - شراء أراضى - ابحاث ودراسات للمشروعات الاستثمارية - دفعات مقدمة | N17: =C17-B17 -> 26052.2
A18: العجز ( الفائض ) نقدى | B18: =B11-B7 -> 553017.8 | C18: =C11-C7 -> 718398.8 | D18: =D11-D7 -> 619917.6 | E18: =E11-E7 -> 5668.9 | F18: =F11-F7 -> 0 | G18: =G11-G7 -> -3009 | H18: =H11-H7 -> -1905.2 | I18: =I11-I7 -> 620672.3 | J18: =IF(ISERR((I18/C18)),0,(I18/C18)) -> 0.86396623 | K18: =K11-K7 -> 483844.07 | L18: =I18-C18 -> -97726.5 | N18: =C18-B18 -> 165381
A19: # صافى حيازة الاصول المالية | B19: =B21-B20 -> 5132.5 | C19: =C21-C20 -> 5153.6 | D19: =D21-D20 -> -11255.8 | E19: =E21-E20 -> 0 | F19: =F21-F20 -> 0 | G19: =G21-G20 -> 484 | H19: =H21-H20 -> 0 | I19: =I21-I20 -> -10771.8 | J19: =IF(ISERR((I19/C19)),0,(I19/C19)) -> -2.0901506 | K19: =K21-K20 -> 569.9 | L19: =I19-C19 -> -15925.4 | N19: =C19-B19 -> 21.1
A20: ـ متحصلات الإقراض ومبيعات الأصول المالية بدون حصيلة الخصخصة | B20: 24821.5 | C20: 24821.5 | D20: 35364.7 | E20: 0 | F20: 0 | G20: 690.9 | H20: 0 | I20: 36055.6 | J20: =IF(ISERR((I20/C20)),0,(I20/C20)) -> 1.4525955 | K20: 22697 | L20: =I20-C20 -> 11234.1 | M20: ترجع أسباب زيادة الفعلى المحصل عن الاعتماد المعدل الى زيادة الحصيلة الفعلية للانواع التالية:- - أقساط محصلة من الإقراض "من الهيئات الاقتصادية - من شركات قطاع الاعمال العام - محصلة من أجهزة الموازنة العامة (أقساط القروض الخارجية المعاد أقراضها من الخزانة العامة). - المتحصلات من بيع الاصول وحقوق الملكية "من شركات قطاع أعمال عام". | N20: =C20-B20 -> 0
A21: ـ حيازة الأصول المالية المحلية والأجنبية بدون مساهمة الخزانة فى صندوق تمويل الهيكلة | B21: 29954 | C21: 29975.1 | D21: 24108.9 | E21: 0 | F21: 0 | G21: 1174.9 | H21: 0 | I21: 25283.8 | J21: =IF(ISERR((I21/C21)),0,(I21/C21)) -> 0.84349343 | K21: 23266.9 | L21: =C21-I21 -> 4691.3 | M21: ترجع أسباب نقص المنصرف الفعلى عن الاعتماد المعدل الى نقص المنصرف الفعلى للانواع التالية:- - مساهمات وحقوق ملكية "فى هيئات اقتصادية - فى شركات قابضة" - احتياطيات عامة لحيازة الاصول المالية | N21: =C21-B21 -> 21.1
A22: العجز الكلى | B22: =B18+B19 -> 558150.3 | C22: =C18+C19 -> 723552.4 | D22: =D18+D19 -> 608661.8 | E22: =E18+E19 -> 5668.9 | F22: =F18+F19 -> 0 | G22: =G18+G19 -> -2525 | H22: =H18+H19 -> -1905.2 | I22: =I18+I19 -> 609900.5 | J22: =IF(ISERR((I22/C22)),0,(I22/C22)) -> 0.84292513 | K22: =K18+K19 -> 484413.97 | L22: =I22-C22 -> -113651.9 | N22: =C22-B22 -> 165402.1
A23: # صافى الأقتراض و سداد القروض | B23: =B24-B25 -> 558150.3 | C23: =C24-C25 -> 723552.4 | D23: =D24-D25 -> 608661.8 | E23: =E24-E25 -> 5668.9 | F23: =F24-F25 -> 0 | G23: =G24-G25 -> -2525 | H23: =H24-H25 -> -1905.2 | I23: =I24-I25 -> 609900.5 | J23: =IF(ISERR((I23/C23)),0,(I23/C23)) -> 0.84292513 | K23: =K24-K25 -> 484414 | L23: =I23-C23 -> -113651.9 | N23: =C23-B23 -> 165402.1
A24: ـ الأقتراض وإصدار الأوراق المالية بخلاف الأسهم | B24: 1523638.5 | C24: 1689178 | D24: 1475238.3 | E24: 5668.9 | F24: 0 | G24: 0 | H24: -1905.2 | I24: 1479002 | J24: =IF(ISERR((I24/C24)),0,(I24/C24)) -> 0.87557498 | K24: 1009340.8 | L24: =I24-C24 -> -210176 | M24: ترجع أسباب نقص الفعلى المحصل عن الاعتماد المعدل الى نقص الحصيلة الفعلية لكل من:- - أصدار أوراق مالية بخلاف الأسهم - الاقتراض الاجنبي "لتمويل الاستثمارات - لتمويل التزامات جارية" | N24: =C24-B24 -> 165539.5
A25: ـ سداد القروض المحلية والأجنبية | B25: 965488.2 | C25: 965625.6 | D25: 866576.5 | E25: 0 | F25: 0 | G25: 2525 | H25: 0 | I25: 869101.5 | J25: =IF(ISERR((I25/C25)),0,(I25/C25)) -> 0.90003983 | K25: 524926.8 | L25: =C25-I25 -> 96524.1 | M25: ترجع أسباب نقص المنصرف الفعلى عن الاعتماد المعدل الى نقص المنصرف الفعلى للانواع التالية:- - أستهلاك أوراق مالية بخلاف الأسهم "سندات على الخزانة العامة" - سداد القروض "لمصادر أخرى" - سداد القروض الاجنبية "أقساط خارجية تسددها الجهات" | N25: =C25-B25 -> 137.4
A26: الفائض / العجز الأولى | B26: =B22-B14 -> -131999.4 | C26: =C22-C14 -> -51608.3 | D26: =D22-D14 -> -165404.9 | E26: =E22-E14 -> 5668.9 | F26: =F22-F14 -> 0 | G26: =G22-G14 -> -2660.9 | H26: =H22-H14 -> -1905.2 | I26: =I22-I14 -> -164302.1 | J26: =IF(ISERR((I26/C26)),0,(I26/C26)) -> 3.1836371 | K26: =K22-K14 -> -100411.73 | L26: =I26-C26 -> -112693.8 | N26: =C26-B26 -> 80391.1
A27: الناتج المحلى الاجمالى | B27: 9092080 | C27: 10100000 | I27: 10100000 | K27: 7925000
A28: نسبة الإيرادات الى الناتج المحلى | B28: =B7/B27 -> 0.16694246 | C28: =C7/C27 -> 0.15987672 | I28: =I7/I27 -> 0.15484369 | K28: =K7/K27 -> 0.16999093
A29: نسبة المصروفات الى الناتج المحلى | B29: =B11/B27 -> 0.22776658 | C29: =C11/C27 -> 0.23100532 | I29: =I11/I27 -> 0.2162964 | K29: =K11/K27 -> 0.23104381
A30: نسبة العجز ( الفائض ) النقدى الى الناتج المحلى | B30: =B18/B27 -> 0.060824124 | C30: =C18/C27 -> 0.071128594 | I30: =I18/I27 -> 0.061452703 | K30: =K18/K27 -> 0.061052879
A31: نسبة العجز الكلى الى الناتج المحلى | B31: =B22/B27 -> 0.061388626 | C31: =C22/C27 -> 0.071638851 | I31: =I22/I27 -> 0.060386188 | K31: =K22/K27 -> 0.061124791
A32: نسبة العجز الاولى الى الناتج المحلى | B32: =B26/B27 -> -0.014518064 | C32: =C26/C27 -> -0.0051097327 | I32: =I26/I27 -> -0.016267535 | K32: =K26/K27 -> -0.01267025
A33: الانفاق الجارى | B33: =B11-B17 -> 1694443.2 | C33: =C11-C17 -> 1930672.7 | D33: =D11-D17 -> 1776812.8 | E33: =E11-E17 -> 74.2 | F33: =F11-F17 -> 4533 | G33: =G11-G17 -> 63087.5 | H33: =H11-H17 -> 51099.1 | I33: =I11-I17 -> 1895606.6 | ... K33: =K11-K17 -> 1501292.1
D37: 6550000
B319: 0.1
B320: 5.3

Sheet اسباب الاعتماد الاضافي
A1: مبررات صدور الاعتماد الاضافى بالموازنة العامة للدولة للسنة المالية 2023/2022
A2: للسنة المالية 2023/2022
A3: البيــــــــان | B3: ربط 2023/2022 | E3: مبررات الاعتماد الإضافي
B4: الاعتماد الأصلى | C4: الإعتماد الإضافي | D4: الربط المعدل بعد الاعتماد الإضافي
A7: ـ الاجور والتعويضات للعاملين | B7: ='المصروفات اقتصادي'!B12 -> 400000 | C7: 10000 | D7: =B7+C7 -> 410000 | E7:  تكلفة العلاوة الدورية للعاملين المخاطبين بقانون الخدمة المدنية بدءاً من إبريل 2023 بنسبة 8٪ من الأجر الوظيفى بحد أدنى 125 جنيه شهرياً، وكذلك منح العاملين الغير مخاطبين بقانون الخدمة المدنية علاوة خاصة بدءاً من إبريل 2023 بنسبة 15٪ من الأجر الأساسى بحد أدنى 125 جنيه شهرياً وتكلفة الحافز الإضافى بفئات مالية شهرية مقطوعة ومتدرجة وفق الدرجات المالية لكل من المخاطبين وغير المخاطبين بقانون الخدمة المدنية بدءًا من الدرجة السادسة وحتى الدرجة الممتازة بتكلفة تقدر بنحو 5.0 مليار جنيه .  تكلفة تحسين دخول الأطباء وأعضاء المهن الطبية بتكلفة تقدر بنحو 0.8 مليار جنيه.  تكلفة تحسين دخول المعلمين بتكلفة تقدر بنحو 1.0 مليار جنيه.  زيادة فئات حافز الجودة للسادة أعضاء هيئة التدريس ومعاونيهم بالجامعات والمراكز والمعاهد والهيئات البحثية بتكلفة تقدر بنحو 0.2 مليار جنيه.  تكلفة رفع الحد الأدنى لكافة الفئات لتصل جملة الزيادة إلى 1000 جنيه بتكلفة تقدر بنحــو 3.0 مليار جنيه .
A8: ـ الفوائد | B8: ='المصروفات اقتصادي'!B255 -> 690149.7 | C8: 85000 | D8: =B8+C8 -> 775149.7 | E8: - قيام كافة البنوك المركزية وعلي رأسها البنك الفيدرالي الأمريكي برفع أسعار الفائدة اكثر من مره علي مدار العام المالي 2022/2023 في محاولة لكبح جماح التضخم وذلك عبر إمتصاص السيولة من الاقتصاد وتقويض الطلب والحد من هذا الركود . - إجحاف المستثمرين عن الدخول في عطاءات الأوراق المالية متوسطة أو طويلة الأجل (سندات خزانة) لتمويل العجز في الموازنة بالإضافة إلي ارتفاع أسعار العائد المعروض من جانب المستثمرين في عطاءات قصيرة الاجل وذلك لرغبتهم في الحصول علي أسعار عوائد مرتفعة مثيلة لأسعار فوائد الشهادات المطروحة بالبنوك . - آدت القرارات المتخذة من جانب البنك المركزى المصرى الى أرتفاع تكلفة خدمة الدين المحلى نتيجة إرتفاع سعر الإقراض والخصم وكذا سعر صرف الجنيه وكذلك عوائد أذون وسندات الخزانة في شهر يناير 2023 مقارنة بشهر يناير 2022 وذلك علي النحو التالي :- - إرتفاع سعر الإقراض والخصم "الكوريدور" بنسبة 91.4% . - إرتفاع سعر الصرف بنسبة 92.06% . - إرتفاع متوسط أسعار الفائدة علي سندات وأذون الخزانة "91 يوم – 182 يوم – 273 يوم – 364 يوم" . - ارتفاع تكلفة خدمة الدين العام الخارجي نتيجة المتغيرات في سعر صرف الجنيه المصرى امام العملات الأجنبية .
A9: ـ الدعم والمنح والمزايا الإجتماعية | B9: ='المصروفات اقتصادي'!B272 -> 355993.5 | C9: 70000 | D9: =B9+C9 -> 425993.5 | E9:  تكلفة زيادة دعم المواد البترولية نتيجة التغير في أسعار الصرف والسعر العالمي لبرميل البترول بنحو مبلغ 30.0 مليار جنيه.  تكلفة إستفادة حوالي ١٠.٥ مليون أسرة مقيدة على البطاقات التموينية بمبالغ شهرية 100-200-300 جنيه بداية من سبتمبر 2022 لتنتهي بنهاية يونيو 2023 بتكلفة تبلغ نحو 8.3 مليار جنيه .  تكلفة مواجهة زيادة أسعار القمح المستورد وإرتفاع أسعار الصرف عن المقدر بالموازنة العامة للدولة للسنة المالية 2022/2023 بتكلفة إضافية مطلوب تدبيرها تبلغ نحو 21.3 مليار جنيه .  التكلفة المترتبة على قرار مجلس الوزراء رقم (225) بتاريخ 18/1/2023 برفع سعر توريد أردب القمح المحلى من 820 جنيه للاردب موسم 2022 إلى 1250 جنيه للاردب موسم 2023 شامل حافز التوريد لكمية قمح محلى مدرجة بالموازنة العامة للدولة تصل إلى نحو 3,5 مليون طن بتكلفة إضافية مطلوب تدبيرها تبلغ نحو 10.4 مليار جنيه.
B294: 0.1
B295: 5.3

Sheet المصروفات اقتصادي
A2: المصروفات بالتقسيم الاقتصادي
A3: ختامي 2023/2022
A5: البيـــــان | B5: الدولة
B6: ربط 2023/2022 | D6: يوليو - يونيه السنة المالية 2023/2022 | K6: ختامي السنة المالية 2022/2021 (4) | L6: الانحراف (2-3)
B7: الاصلى | C7: المعدل | D7: فعلى ممول من الخزانة العامة | E7: فعلى ممول من القروض | F7: فعلى ممول من المنح | G7: فعلى ممول ذاتيا | I7: الاجمالى | J7: نسبة الفعلي للربط
G8: من الصناديق والحسابات خاصة | H8: أخرى | J8: %
B9: (1) | C9: (2) | I9: (3) | J9: (2/3)
A10: الاستخدامات | B10: 3066314.2 | C10: 3328754.4 | D10: 2899593.4 | E10: 5668.9 | F10: 5431.7 | G10: 95704.5 | H10: 72580.4 | I10: =SUM(D10:H10) -> 3078978.9 | J10: =IF(ISERR((I10/C10)),0,(I10/C10)) -> 0.92496427 | K10: 2379215.9 | L10: =C10-I10 -> 249775.5
A11: # المصروفات | B11: 2070872 | C11: 2333153.7 | D11: 2008908 | E11: 5668.9 | F11: 5431.7 | G11: 92004.6 | H11: 72580.4 | I11: =SUM(D11:H11) -> 2184593.6 | J11: =IF(ISERR((I11/C11)),0,(I11/C11)) -> 0.93632648 | K11: 1831022.2 | L11: =C11-I11 -> 148560.1
A12: ـ الأجور والتعويضات للعاملين | B12: 400000 | C12: 420029.1 | D12: 381615.7 | E12: 4.4 | F12: 24.1 | G12: 23417.6 | H12: 7401.6 | I12: =SUM(D12:H12) -> 412463.4 | J12: =IF(ISERR((I12/C12)),0,(I12/C12)) -> 0.98198768 | K12: 358735.3 | L12: =C12-I12 -> 7565.7
A13: = الاجور والبدلات النقدية والعينية | B13: 313090.9 | C13: 342674 | D13: 309840.4 | E13: 4.4 | F13: 24 | G13: 21670.1 | H13: 6693.7 | I13: =SUM(D13:H13) -> 338232.6 | J13: =IF(ISERR((I13/C13)),0,(I13/C13)) -> 0.98703899 | K13: 294357.7 | L13: =C13-I13 -> 4441.4
A14: * الوظائف الدائمة | B14: 93736.4 | C14: 100707.3 | D14: 95496.8 | E14: 0 | F14: 0 | G14: 3603.4 | H14: 1127.1 | I14: =SUM(D14:H14) -> 100227.3 | J14: =IF(ISERR((I14/C14)),0,(I14/C14)) -> 0.99523371 | K14: 92935 | L14: =C14-I14 -> 480
A15: x المرتبات الاساسية | B15: 41063.1 | C15: 47800.6 | D15: 47647.6 | E15: 0 | F15: 0 | G15: 91 | H15: 1.6 | I15: =SUM(D15:H15) -> 47740.2 | J15: =IF(ISERR((I15/C15)),0,(I15/C15)) -> 0.99873642 | K15: 41638.1 | L15: =C15-I15 -> 60.4
A16: x تكاليف المعارين و تتحمل الموازنة مرتباتهم | B16: 451.3 | C16: 695.1 | D16: 688.4 | E16: 0 | F16: 0 | G16: 2.7 | H16: 0.4 | I16: =SUM(D16:H16) -> 691.5 | J16: =IF(ISERR((I16/C16)),0,(I16/C16)) -> 0.99482089 | K16: 412.1 | L16: =C16-I16 -> 3.6
A17: x تكاليف الاجازات الدراسية | B17: 0.5 | C17: 0.4 | D17: 0 | E17: 0 | F17: 0 | G17: 0.2 | H17: 0 | I17: =SUM(D17:H17) -> 0.2 | J17: =IF(ISERR((I17/C17)),0,(I17/C17)) -> 0.5 | K17: 0.3 | L17: =C17-I17 -> 0.2
A18: x تكاليف المنح التدريبية | B18: 0.2 | C18: 0.2 | D18: 0.1 | E18: 0 | F18: 0 | G18: 0 | H18: 0 | I18: =SUM(D18:H18) -> 0.1 | J18: =IF(ISERR((I18/C18)),0,(I18/C18)) -> 0.5 | K18: 0.1 | L18: =C18-I18 -> 0.1
A19: x الأجر الوظيفى | B19: 52057.8 | C19: 52011.6 | D19: 46962 | E19: 0 | F19: 0 | G19: 3509.5 | H19: 1125.1 | I19: =SUM(D19:H19) -> 51596.6 | J19: =IF(ISERR((I19/C19)),0,(I19/C19)) -> 0.99202101 | K19: 50718 | L19: =C19-I19 -> 415
A20: x تكاليف أجور ومرتبات المخاطبين بأحكام القانون رقم (28) لسنة 2018 | B20: 163.5 | C20: 199.4 | D20: 198.7 | E20: 0 | F20: 0 | G20: 0 | H20: 0 | I20: =SUM(D20:H20) -> 198.7 | J20: =IF(ISERR((I20/C20)),0,(I20/C20)) -> 0.99648947 | K20: 166.4 | L20: =C20-I20 -> 0.7
A21: * الوظائف المؤقتة | B21: 8197.8 | C21: 11024.6 | D21: 7756.1 | E21: 0 | F21: 0 | G21: 2295.4 | H21: 112.2 | I21: =SUM(D21:H21) -> 10163.7 | J21: =IF(ISERR((I21/C21)),0,(I21/C21)) -> 0.921911 | K21: 8075 | L21: =C21-I21 -> 860.9
... A111: x تكاليف المقابل النقدى لرصيد الأجازات الاعتيادية | B111: 3732 | C111: 3227.8 | D111: 3164.6 | E111: 0 | F111: 0 | G111: 5.5 | H111: 9.9 | I111: =SUM(D111:H111) -> 3180 | J111: =IF(ISERR((I111/C111)),0,(I111/C111)) -> 0.98519115 | K111: 3594.9 | L111: =C111-I111 -> 47.8
A112: x علاوة غلاء معيشة استثنائية | B112: 0 | C112: 8595.1 | D112: 8129.6 | E112: 0 | F112: 0 | G112: 268.2 | H112: 112.9 | L112: =C112-I112 -> 8595.1
A113: x علاوة الحد الآدنى للحزمة الاجتماعية | B113: 0 | C113: 4598.9 | D113: 4299.4 | E113: 0 | F113: 0 | G113: 141.8 | H113: 69.5 | L113: =C113-I113 -> 4598.9
A114: x علاوة الحد الآدنى للأجور من حاملى الشهادة العلمية "ماجستير ودكتوراه" | B114: 0 | C114: 2.7 | D114: 0.7 | E114: 0 | F114: 0 | G114: 0 | H114: 0 | L114: =C114-I114 -> 2.7
A115: * المزايــا العينيــة | B115: 9668.3 | C115: 9794.5 | D115: 9015.2 | E115: 0 | F115: 0 | G115: 351.5 | H115: 85.4 | I115: =SUM(D115:H115) -> 9452.1 | J115: =IF(ISERR((I115/C115)),0,(I115/C115)) -> 0.9650416 | K115: 8095.8 | L115: =C115-I115 -> 342.4
A116: x أغذية للعاملين | B116: 5257.5 | C116: 5396.7 | D116: 4992.6 | E116: 0 | F116: 0 | G116: 112.4 | H116: 29.7 | I116: =SUM(D116:H116) -> 5134.7 | J116: =IF(ISERR((I116/C116)),0,(I116/C116)) -> 0.95145181 | K116: 4517.8 | L116: =C116-I116 -> 262
A117: x ملابس للعاملين | B117: 1542.7 | C117: 1477.9 | D117: 1445.1 | E117: 0 | F117: 0 | G117: 9.3 | H117: 1.2 | I117: =SUM(D117:H117) -> 1455.6 | J117: =IF(ISERR((I117/C117)),0,(I117/C117)) -> 0.98491102 | K117: 1194.1 | L117: =C117-I117 -> 22.3
A118: x علاج طبى للعاملين | B118: 2701.4 | C118: 2725.9 | D118: 2438.3 | E118: 0 | F118: 0 | G118: 189.1 | H118: 52.6 | I118: =SUM(D118:H118) -> 2680 | J118: =IF(ISERR((I118/C118)),0,(I118/C118)) -> 0.98316152 | K118: 2229.6 | L118: =C118-I118 -> 45.9
A119: x خدمات اجتماعية ورياضية للعاملين | B119: 126 | C119: 120 | D119: 98.7 | E119: 0 | F119: 0 | G119: 10.4 | H119: 1.9 | I119: =SUM(D119:H119) -> 111 | J119: =IF(ISERR((I119/C119)),0,(I119/C119)) -> 0.925 | K119: 94.8 | L119: =C119-I119 -> 9
A120: x اخـــرى | B120: 40.7 | C120: 74 | D120: 40.5 | E120: 0 | F120: 0 | G120: 30.3 | H120: 0 | I120: =SUM(D120:H120) -> 70.8 | J120: =IF(ISERR((I120/C120)),0,(I120/C120)) -> 0.95675676 | K120: 59.5 | L120: =C120-I120 -> 3.2
A121: = المزايا التأمينية | B121: 43618 | C121: 48513.7 | D121: 45491 | E121: 0 | F121: 0.1 | G121: 1620.7 | H121: 684.5 | I121: =SUM(D121:H121) -> 47796.3 | J121: =IF(ISERR((I121/C121)),0,(I121/C121)) -> 0.98521242 | K121: 40359.7 | L121: =C121-I121 -> 717.4
A122: * حصة الحكومة فى صندوق التأمين الاجتماعى للحكومة | B122: 33399.6 | C122: 36972.9 | D122: 34734.3 | E122: 0 | F122: 0.1 | G122: 1266.8 | H122: 503.1 | I122: =SUM(D122:H122) -> 36504.3 | J122: =IF(ISERR((I122/C122)),0,(I122/C122)) -> 0.98732585 | K122: 31033.7 | L122: =C122-I122 -> 468.6
A123: x التأمين ضد الشيخوخة والعجز والوفاة | B123: 29936.5 | C123: 33039.5 | D123: 31112.1 | E123: 0 | F123: 0.1 | G123: 1144.7 | H123: 452.3 | I123: =SUM(D123:H123) -> 32709.2 | J123: =IF(ISERR((I123/C123)),0,(I123/C123)) -> 0.99000288 | K123: 27805.4 | L123: =C123-I123 -> 330.3
A124: x حصة الحكومة فى اشتراكات نظام المكافات | B124: 2684.7 | C124: 2955.6 | D124: 2706.1 | E124: 0 | F124: 0 | G124: 106.1 | H124: 38.6 | I124: =SUM(D124:H124) -> 2850.8 | J124: =IF(ISERR((I124/C124)),0,(I124/C124)) -> 0.96454189 | K124: 2485.3 | L124: =C124-I124 -> 104.8
A125: x تكاليف مساهمة الحكومة فى التأمين على العاملات فى اجازة لرعاية أطفالهن | B125: 778.4 | C125: 977.8 | D125: 916.1 | E125: 0 | F125: 0 | G125: 16 | H125: 12.2 | I125: =SUM(D125:H125) -> 944.3 | J125: =IF(ISERR((I125/C125)),0,(I125/C125)) -> 0.96573942 | K125: 743 | L125: =C125-I125 -> 33.5
A126: * مزايا تأمينية أخرى | B126: 10218.4 | C126: 11540.8 | D126: 10756.7 | E126: 0 | F126: 0 | G126: 353.9 | H126: 181.4 | I126: =SUM(D126:H126) -> 11292 | J126: =IF(ISERR((I126/C126)),0,(I126/C126)) -> 0.9784417 | K126: 9326 | L126: =C126-I126 -> 248.8
... A183: x صيانة الاجهزة الطبية | B183: 1064 | C183: 1322.8 | D183: 994.5 | E183: 0 | F183: 0 | G183: 171.8 | H183: 12.3 | I183: =SUM(D183:H183) -> 1178.6 | J183: =IF(ISERR((I183/C183)),0,(I183/C183)) -> 0.89098881 | K183: 914.2 | L183: =C183-I183 -> 144.2
A184: x صيانة مبانى الحى الحكومى بالعاصمة الإدارية الجديدة | B184: 0 | C184: 0 | D184: 0 | E184: 0 | F184: 0 | G184: 0 | H184: 0 | L184: =C184-I184 -> 0
A185: * نشر واعلان ودعاية واستقبال | B185: 599.5 | C185: 1147.1 | D185: 556.7 | E185: 0 | F185: 1.9 | G185: 67.5 | H185: 419 | I185: =SUM(D185:H185) -> 1045.1 | J185: =IF(ISERR((I185/C185)),0,(I185/C185)) -> 0.91108012 | K185: 998.7 | L185: =C185-I185 -> 102
A186: x نفقات نشر واعلان | B186: 233.2 | C186: 479.3 | D186: 384.4 | E186: 0 | F186: 0 | G186: 45.9 | H186: 8.2 | I186: =SUM(D186:H186) -> 438.5 | J186: =IF(ISERR((I186/C186)),0,(I186/C186)) -> 0.91487586 | K186: 389.5 | L186: =C186-I186 -> 40.8
A187: x نفقات دعاية | B187: 224.9 | C187: 473.4 | D187: 58.2 | E187: 0 | F187: 0.3 | G187: 0.5 | H187: 401.8 | I187: =SUM(D187:H187) -> 460.8 | J187: =IF(ISERR((I187/C187)),0,(I187/C187)) -> 0.97338403 | K187: 523 | L187: =C187-I187 -> 12.6
A188: x نفقات الحفلات و الاستقبالات | B188: 58.6 | C188: 72.2 | D188: 33 | E188: 0 | F188: 1 | G188: 11 | H188: 6.5 | I188: =SUM(D188:H188) -> 51.5 | J188: =IF(ISERR((I188/C188)),0,(I188/C188)) -> 0.7132964 | K188: 36.5 | L188: =C188-I188 -> 20.7
A189: x نفقات الزيارات الدولية والاشتراك فى المؤتمرات الدولية | B189: 50.8 | C189: 86.6 | D189: 71.1 | E189: 0 | F189: 0 | G189: 1.3 | H189: 0.1 | I189: =SUM(D189:H189) -> 72.5 | J189: =IF(ISERR((I189/C189)),0,(I189/C189)) -> 0.83718245 | K189: 29.7 | L189: =C189-I189 -> 14.1
A190: x نفقات الاشتراك فى المؤتمرات المحلية | B190: 6.5 | C190: 9.4 | D190: 3.6 | E190: 0 | F190: 0.6 | G190: 1.4 | H190: 0 | I190: =SUM(D190:H190) -> 5.6 | J190: =IF(ISERR((I190/C190)),0,(I190/C190)) -> 0.59574468 | K190: 4.5 | L190: =C190-I190 -> 3.8
A191: x نفقات الشئون والعلاقات العامة | B191: 17.5 | C191: 18.5 | D191: 6.3 | E191: 0 | F191: 0 | G191: 5.1 | H191: 0 | I191: =SUM(D191:H191) -> 11.4 | J191: =IF(ISERR((I191/C191)),0,(I191/C191)) -> 0.61621622 | K191: 10.9 | L191: =C191-I191 -> 7.1
A192: x اخرى | B192: 8 | C192: 7.7 | D192: 0.1 | E192: 0 | F192: 0 | G192: 2.3 | H192: 2.4 | I192: =SUM(D192:H192) -> 4.8 | J192: =IF(ISERR((I192/C192)),0,(I192/C192)) -> 0.62337662 | K192: 4.6 | L192: =C192-I192 -> 2.9
A193: * نفقات طبع ودوريات وحقوق تأليف | B193: 4296.7 | C193: 7397.2 | D193: 5286.3 | E193: 0 | F193: 600.2 | G193: 768.3 | H193: 452.6 | I193: =SUM(D193:H193) -> 7107.4 | J193: =IF(ISERR((I193/C193)),0,(I193/C193)) -> 0.96082301 | K193: 4067.5 | L193: =C193-I193 -> 289.8
A194: x نفقات طبع | B194: 4218 | C194: 7287.2 | D194: 5211.9 | E194: 0 | F194: 600.2 | G194: 744.5 | H194: 452 | I194: =SUM(D194:H194) -> 7008.6 | J194: =IF(ISERR((I194/C194)),0,(I194/C194)) -> 0.96176858 | K194: 4020.1 | L194: =C194-I194 -> 278.6
A195: x اشتراكات فى مجلات وجرائد ودوريات | B195: 18.2 | C195: 17.2 | D195: 8.6 | E195: 0 | F195: 0 | G195: 3.8 | H195: 0 | I195: =SUM(D195:H195) -> 12.4 | J195: =IF(ISERR((I195/C195)),0,(I195/C195)) -> 0.72093023 | K195: 12.1 | L195: =C195-I195 -> 4.8
A196: x شراء حقوق المؤلفين | B196: 7 | C196: 24.5 | D196: 1.9 | E196: 0 | F196: 0 | G196: 19 | H196: 0 | I196: =SUM(D196:H196) -> 20.9 | J196: =IF(ISERR((I196/C196)),0,(I196/C196)) -> 0.85306122 | K196: 3.2 | L196: =C196-I196 -> 3.6
... A209: x اخرى | B209: 2.1 | C209: 12.6 | D209: 0.8 | E209: 0 | F209: 0 | G209: 10.2 | H209: 0 | I209: =SUM(D209:H209) -> 11 | J209: =IF(ISERR((I209/C209)),0,(I209/C209)) -> 0.87301587 | K209: 12.7 | L209: =C209-I209 -> 1.6
A210: x بدل الإنتقال للموظفين المنتقلين للعاصمة الإدارية الجديدة | B210: 0 | C210: 82.9 | D210: 55.5 | E210: 0 | F210: 0 | G210: 0.2 | H210: 0 | L210: =C210-I210 -> 82.9
A211: x بدل سكن للموظفين المنتقلين للعاصمة الإدارية الجديدة | B211: 0 | C211: 0 | D211: 0 | E211: 0 | F211: 0 | G211: 0 | H211: 0 | L211: =C211-I211 -> 0
A212: * البريد والإتصالات | B212: 712.3 | C212: 705.9 | D212: 487.5 | E212: 0 | F212: 0 | G212: 65.1 | H212: 3.3 | I212: =SUM(D212:H212) -> 555.9 | J212: =IF(ISERR((I212/C212)),0,(I212/C212)) -> 0.78750531 | K212: 620.7 | L212: =C212-I212 -> 150
A213: x بريد | B213: 156.2 | C213: 145.3 | D213: 113.3 | E213: 0 | F213: 0 | G213: 10.7 | H213: 0.5 | I213: =SUM(D213:H213) -> 124.5 | J213: =IF(ISERR((I213/C213)),0,(I213/C213)) -> 0.8568479 | K213: 122 | L213: =C213-I213 -> 20.8
A214: x تليفون | B214: 301.6 | C214: 219.5 | D214: 149.1 | E214: 0 | F214: 0 | G214: 9.4 | H214: 1.2 | I214: =SUM(D214:H214) -> 159.7 | J214: =IF(ISERR((I214/C214)),0,(I214/C214)) -> 0.72756264 | K214: 219.3 | L214: =C214-I214 -> 59.8
A215: x اشتراك تيكر | B215: 1.5 | C215: 1.8 | D215: 1.3 | E215: 0 | F215: 0 | G215: 0 | H215: 0 | I215: =SUM(D215:H215) -> 1.3 | J215: =IF(ISERR((I215/C215)),0,(I215/C215)) -> 0.72222222 | K215: 0.9 | L215: =C215-I215 -> 0.5
A216: x تلكس و فاكس | B216: 1 | C216: 0.9 | D216: 0.3 | E216: 0 | F216: 0 | G216: 0 | H216: 0 | I216: =SUM(D216:H216) -> 0.3 | J216: =IF(ISERR((I216/C216)),0,(I216/C216)) -> 0.33333333 | K216: 0.4 | L216: =C216-I216 -> 0.6
A217: x شبكة الانترنت | B217: 238.5 | C217: 317.9 | D217: 207.4 | E217: 0 | F217: 0 | G217: 43.3 | H217: 1.6 | I217: =SUM(D217:H217) -> 252.3 | J217: =IF(ISERR((I217/C217)),0,(I217/C217)) -> 0.7936458 | K217: 216.2 | L217: =C217-I217 -> 65.6
A218: x اخرى | B218: 7.2 | C218: 8 | D218: 7 | E218: 0 | F218: 0 | G218: 0.5 | H218: 0 | I218: =SUM(D218:H218) -> 7.5 | J218: =IF(ISERR((I218/C218)),0,(I218/C218)) -> 0.9375 | K218: 8.1 | L218: =C218-I218 -> 0.5
A219: x خطوط الإنترنت المؤمنة | B219: 5.3 | C219: 12.1 | D219: 9.1 | E219: 0 | F219: 0 | G219: 1.2 | H219: 0 | I219: =SUM(D219:H219) -> 10.3 | J219: =IF(ISERR((I219/C219)),0,(I219/C219)) -> 0.85123967 | K219: 53.7 | L219: =C219-I219 -> 1.8
A220: * ايجـــار | B220: 1429.5 | C220: 3939.5 | D220: 3107.4 | E220: 0 | F220: 0.4 | G220: 444.9 | H220: 70.3 | I220: =SUM(D220:H220) -> 3623 | J220: =IF(ISERR((I220/C220)),0,(I220/C220)) -> 0.91965986 | K220: 1172.2 | L220: =C220-I220 -> 316.5
A221: x ايجار أراضـى ومبــانى ومخازن وجراجات وغيرها | B221: 829.2 | C221: 1105.3 | D221: 534.9 | E221: 0 | F221: 0.4 | G221: 303.8 | H221: 53.9 | I221: =SUM(D221:H221) -> 893 | J221: =IF(ISERR((I221/C221)),0,(I221/C221)) -> 0.80792545 | K221: 721.3 | L221: =C221-I221 -> 212.3
A222: x ايجارالآت احصائية وحاسبات | B222: 81.4 | C222: 83 | D222: 0.3 | E222: 0 | F222: 0 | G222: 76.5 | H222: 0 | I222: =SUM(D222:H222) -> 76.8 | J222: =IF(ISERR((I222/C222)),0,(I222/C222)) -> 0.9253012 | K222: 66 | L222: =C222-I222 -> 6.2
A223: x ايجارالآت وماكينات ومعدات | B223: 60.7 | C223: 53.5 | D223: 21 | E223: 0 | F223: 0 | G223: 8.4 | H223: 0 | I223: =SUM(D223:H223) -> 29.4 | J223: =IF(ISERR((I223/C223)),0,(I223/C223)) -> 0.54953271 | K223: 35.5 | L223: =C223-I223 -> 24.1
... A225: x ايجاروسائل نقل | B225: 435.4 | C225: 413.4 | D225: 276.1 | E225: 0 | F225: 0 | G225: 52.3 | H225: 16.4 | I225: =SUM(D225:H225) -> 344.8 | J225: =IF(ISERR((I225/C225)),0,(I225/C225)) -> 0.83405902 | K225: 311.8 | L225: =C225-I225 -> 68.6
A226: x مقابل حق الإنتفاع لمبانى الحى الحكومى بالعاصمة الإدارية الجديدة | B226: 0 | C226: 2256 | D226: 2256 | E226: 0 | F226: 0 | G226: 0 | H226: 0 | L226: =C226-I226 -> 2256
A227: * نفقات اقامة المعارض والمؤتمرات | B227: 148.9 | C227: 4534.5 | D227: 4169.3 | E227: 0 | F227: 0.1 | G227: 3.7 | H227: 154.7 | I227: =SUM(D227:H227) -> 4327.8 | J227: =IF(ISERR((I227/C227)),0,(I227/C227)) -> 0.95441614 | K227: 964.9 | L227: =C227-I227 -> 206.7
A228: x فى الداخل | B228: 137.1 | C228: 4370 | D228: 4166.9 | E228: 0 | F228: 0.1 | G228: 2.2 | H228: 0.3 | I228: =SUM(D228:H228) -> 4169.5 | J228: =IF(ISERR((I228/C228)),0,(I228/C228)) -> 0.95411899 | K228: 767.6 | L228: =C228-I228 -> 200.5
A229: x فى الخارج | B229: 11.8 | C229: 164.5 | D229: 2.4 | E229: 0 | F229: 0 | G229: 1.5 | H229: 154.4 | I229: =SUM(D229:H229) -> 158.3 | J229: =IF(ISERR((I229/C229)),0,(I229/C229)) -> 0.96231003 | K229: 197.3 | L229: =C229-I229 -> 6.2
A230: * تكاليف العلاقات الثقافية والتعاون الخارجى | B230: 141.8 | C230: 165 | D230: 98 | E230: 0 | F230: 0 | G230: 28.3 | H230: 0 | I230: =SUM(D230:H230) -> 126.3 | J230: =IF(ISERR((I230/C230)),0,(I230/C230)) -> 0.76545455 | K230: 121.5 | L230: =C230-I230 -> 38.7
A231: x تكاليف تبادل البعثات والوفود مع الحكومات لاجنبية وتنفيذ المعاهدات الثقافية | B231: 108.2 | C231: 106.5 | D231: 77.2 | E231: 0 | F231: 0 | G231: 0.2 | H231: 0 | I231: =SUM(D231:H231) -> 77.4 | J231: =IF(ISERR((I231/C231)),0,(I231/C231)) -> 0.72676056 | K231: 73.1 | L231: =C231-I231 -> 29.1
A232: x تكاليف المكاتب و المراكز الثقافية و مكاتب البعثات | B232: 32.6 | C232: 57.5 | D232: 20.5 | E232: 0 | F232: 0 | G232: 28.1 | H232: 0 | I232: =SUM(D232:H232) -> 48.6 | J232: =IF(ISERR((I232/C232)),0,(I232/C232)) -> 0.84521739 | K232: 48.4 | L232: =C232-I232 -> 8.9
A233: x أخرى | B233: 1 | C233: 1 | D233: 0.3 | E233: 0 | F233: 0 | G233: 0 | H233: 0 | I233: =SUM(D233:H233) -> 0.3 | J233: =IF(ISERR((I233/C233)),0,(I233/C233)) -> 0.3 | K233: 0 | L233: =C233-I233 -> 0.7
A234: * تكاليف البحوث والتطوير وتدريب العاملين | B234: 2850.8 | C234: 2089.8 | D234: 264.2 | E234: 0 | F234: 76.7 | G234: 56.5 | H234: 6.9 | I234: =SUM(D234:H234) -> 404.3 | J234: =IF(ISERR((I234/C234)),0,(I234/C234)) -> 0.19346349 | K234: 369.8 | L234: =C234-I234 -> 1685.5
A235: x خدمات ابحاث وتجارب | B235: 2643.2 | C235: 1723.5 | D235: 91.9 | E235: 0 | F235: 0.5 | G235: 26.4 | H235: 2.3 | I235: =SUM(D235:H235) -> 121.1 | J235: =IF(ISERR((I235/C235)),0,(I235/C235)) -> 0.070263998 | K235: 114.8 | L235: =C235-I235 -> 1602.4
A236: x تكاليف البرامج التدريبية | B236: 207.6 | C236: 366.3 | D236: 172.3 | E236: 0 | F236: 76.2 | G236: 30.1 | H236: 4.6 | I236: =SUM(D236:H236) -> 283.2 | J236: =IF(ISERR((I236/C236)),0,(I236/C236)) -> 0.77313677 | K236: 255 | L236: =C236-I236 -> 83.1
A237: * نفقات خدمية متنوعة | B237: 18080.1 | C237: 21203.1 | D237: 14329.7 | E237: 22.9 | F237: 3.1 | G237: 3396 | H237: 257.5 | I237: =SUM(I238:I249) -> 17874.6 | J237: =IF(ISERR((I237/C237)),0,(I237/C237)) -> 0.84301824 | K237: 14605.7 | L237: =C237-I237 -> 3328.5
A238: x نفقات تأمين و عمولة | B238: 1066.5 | C238: 1247.7 | D238: 324.7 | E238: 0 | F238: 0 | G238: 149.5 | H238: 3.8 | I238: =SUM(D238:H238) -> 478 | J238: =IF(ISERR((I238/C238)),0,(I238/C238)) -> 0.38310491 | K238: 304.9 | L238: =C238-I238 -> 769.7
A239: x نفقات الأعياد و المواسم | B239: 44.3 | C239: 73.5 | D239: 28 | E239: 0 | F239: 0 | G239: 35.4 | H239: 0 | I239: =SUM(D239:H239) -> 63.4 | J239: =IF(ISERR((I239/C239)),0,(I239/C239)) -> 0.86258503 | K239: 52.4 | L239: =C239-I239 -> 10.1
A240: x نفقات تنفيذ الأحكام القضائية | B240: 940.8 | C240: 1180.2 | D240: 1000.4 | E240: 0 | F240: 0 | G240: 52.4 | H240: 1 | I240: =SUM(D240:H240) -> 1053.8 | J240: =IF(ISERR((I240/C240)),0,(I240/C240)) -> 0.89289951 | K240: 789.8 | L240: =C240-I240 -> 126.4
A241: x نفقات رسوم القيد بنقابة المحامين | B241: 3.3 | C241: 2.7 | D241: 1.9 | E241: 0 | F241: 0 | G241: 0.2 | H241: 0 | I241: =SUM(D241:H241) -> 2.1 | J241: =IF(ISERR((I241/C241)),0,(I241/C241)) -> 0.77777778 | K241: 2.1 | L241: =C241-I241 -> 0.6
A242: x نفقات لجان تحكيم | B242: 501.7 | C242: 533.3 | D242: 104 | E242: 0 | F242: 0 | G242: 0 | H242: 28.2 | I242: =SUM(D242:H242) -> 132.2 | J242: =IF(ISERR((I242/C242)),0,(I242/C242)) -> 0.24789049 | K242: 97.5 | L242: =C242-I242 -> 401.1
A243: x نفقات تشغيل لدى الغير و مقاولى الباطن | B243: 135.2 | C243: 141.8 | D243: 46.6 | E243: 0 | F243: 0 | G243: 67.9 | H243: 0 | I243: =SUM(D243:H243) -> 114.5 | J243: =IF(ISERR((I243/C243)),0,(I243/C243)) -> 0.80747532 | K243: 125.7 | L243: =C243-I243 -> 27.3
A244: x اخرى متنوعة | B244: 5816.2 | C244: 8631 | D244: 5854.7 | E244: 22.9 | F244: 3.1 | G244: 1806.4 | H244: 133.4 | I244: =SUM(D244:H244) -> 7820.5 | J244: =IF(ISERR((I244/C244)),0,(I244/C244)) -> 0.90609431 | K244: 6353.2 | L244: =C244-I244 -> 810.5
A245: x نفقات خدمات الصرف الصحى | B245: 1028.5 | C245: 582.6 | D245: 516 | E245: 0 | F245: 0 | G245: 8.6 | H245: 0.1 | I245: =SUM(D245:H245) -> 524.7 | J245: =IF(ISERR((I245/C245)),0,(I245/C245)) -> 0.90061792 | K245: 354.8 | L245: =C245-I245 -> 57.9
A246: x نفقات نظافة | B246: 5268.6 | C246: 5938.4 | D246: 4116.7 | E246: 0 | F246: 0 | G246: 1105.3 | H246: 48.2 | I246: =SUM(D246:H246) -> 5270.2 | J246: =IF(ISERR((I246/C246)),0,(I246/C246)) -> 0.88747811 | K246: 4132 | L246: =C246-I246 -> 668.2
A247: x نفقات الأمن والحراسة | B247: 2080.5 | C247: 1608.8 | D247: 1084.4 | E247: 0 | F247: 0 | G247: 165.3 | H247: 42.8 | I247: =SUM(D247:H247) -> 1292.5 | J247: =IF(ISERR((I247/C247)),0,(I247/C247)) -> 0.80339383 | K247: 1098.3 | L247: =C247-I247 -> 316.3
A248: x نفقات مقابل الخدمات الإعلامية | B248: 1120.6 | C248: 1124.2 | D248: 1118.3 | E248: 0 | F248: 0 | G248: 4.3 | H248: 0 | I248: =SUM(D248:H248) -> 1122.6 | J248: =IF(ISERR((I248/C248)),0,(I248/C248)) -> 0.99857677 | K248: 1125.9 | L248: =C248-I248 -> 1.6
A249: x نفقات خدمات التصديق الالكترونى الحكومية | B249: 0 | C249: 0.3 | D249: 0.1 | E249: 0 | F249: 0 | G249: 0 | H249: 0 | I249: =SUM(D249:H249) -> 0.1 | J249: =IF(ISERR((I249/C249)),0,(I249/C249)) -> 0.33333333 | K249: 0.1 | L249: =C249-I249 -> 0.2
A250: x نفقات التأمين على ارباب العهد | B250: 0 | C250: 8.5 | D250: 5.9 | E250: 0 | F250: 0 | G250: 0 | H250: 0 | L250: =C250-I250 -> 8.5
A251: = شراء السلع والخدمات الاجمالية والاحتياطيات العامة | B251: 9727.3 | C251: 1246.4 | D251: 925.9 | E251: 0 | F251: 0 | G251: 99.5 | H251: 0 | I251: =SUM(D251:H251) -> 1025.4 | J251: =IF(ISERR((I251/C251)),0,(I251/C251)) -> 0.82268935 | K251: 894.6 | L251: =C251-I251 -> 221
A252: * شراء السلع والخدمات الاجمالية | B252: 987.4 | C252: 1124.9 | D252: 925.9 | E252: 0 | F252: 0 | G252: 99.5 | H252: 0 | I252: =SUM(D252:H252) -> 1025.4 | J252: =IF(ISERR((I252/C252)),0,(I252/C252)) -> 0.91154769 | K252: 894.6 | L252: =C252-I252 -> 99.5
A253: x شراء سلع وخدمات اجماليــة مدرجة بموازنات الجهات | B253: 971.9 | C253: 1116.9 | D253: 925.9 | E253: 0 | F253: 0 | G253: 99.5 | H253: 0 | I253: =SUM(D253:H253) -> 1025.4 | J253: =IF(ISERR((I253/C253)),0,(I253/C253)) -> 0.91807682 | K253: 894.6 | L253: =C253-I253 -> 91.5
A254: * المتطلبات الاضافية لشراء السلع والخدمات | B254: 8739.9 | C254: 121.5 | D254: 0 | E254: 0 | F254: 0 | G254: 0 | H254: 0 | I254: =SUM(D254:H254) -> 0 | J254: =IF(ISERR((I254/C254)),0,(I254/C254)) -> 0 | K254: 0 | L254: =C254-I254 -> 121.5
A255: ـ الفوائد | B255: 690149.7 | C255: 775160.7 | D255: 774066.7 | E255: 0 | F255: 0 | G255: 135.9 | H255: 0 | I255: =SUM(D255:H255) -> 774202.6 | J255: =IF(ISERR((I255/C255)),0,(I255/C255)) -> 0.998764 | K255: 584825.7 | L255: =C255-I255 -> 958.1
A256: = فوائد خارجية | B256: 64457.9 | C256: 108061.2 | D256: 108040 | E256: 0 | F256: 0 | G256: 5.6 | H256: 0 | I256: =SUM(D256:H256) -> 108045.6 | J256: =IF(ISERR((I256/C256)),0,(I256/C256)) -> 0.99985564 | K256: 56449.2 | L256: =C256-I256 -> 15.6
A257: * فوائد خارجية (لغير المقيمين) | B257: 64457.9 | C257: 108061.2 | D257: 108040 | E257: 0 | F257: 0 | G257: 5.6 | H257: 0 | I257: =SUM(D257:H257) -> 108045.6 | J257: =IF(ISERR((I257/C257)),0,(I257/C257)) -> 0.99985564 | K257: 56449.2 | L257: =C257-I257 -> 15.6
A258: x فوائد الدين العام الخارجى | B258: 64225.2 | C258: 107528.5 | D258: 107528.1 | E258: 0 | F258: 0 | G258: 0 | H258: 0 | I258: =SUM(D258:H258) -> 107528.1 | J258: =IF(ISERR((I258/C258)),0,(I258/C258)) -> 0.99999628 | K258: 56331.2 | L258: =C258-I258 -> 0.4
A259: x فوائد خارجية تسددها الجهات | B259: 232.7 | C259: 532.7 | D259: 511.9 | E259: 0 | F259: 0 | G259: 5.6 | H259: 0 | I259: =SUM(D259:H259) -> 517.5 | J259: =IF(ISERR((I259/C259)),0,(I259/C259)) -> 0.97146612 | K259: 118 | L259: =C259-I259 -> 15.2
A260: = فوائد محلية (المقيمين) | B260: 625691.8 | C260: 667099.5 | D260: 666026.7 | E260: 0 | F260: 0 | G260: 130.3 | H260: 0 | I260: =SUM(D260:H260) -> 666157 | J260: =IF(ISERR((I260/C260)),0,(I260/C260)) -> 0.99858717 | K260: 528376.5 | L260: =C260-I260 -> 942.5
...

Sheet الموارد اقتصادي
A2: الموارد بالتقسيم الاقتصادي
A3: ختامي 2023/2022
A5: البيـــــان | B5: دولة
B6: ربط 2023/2022 | D6: ='المصروفات اقتصادي'!D6:J6 -> يوليو - يونيه السنة المالية 2023/2022 | K6: ختامي السنة المالية 2022/2021 | L6: الانحراف (3-2)
B7: الاصلى | C7: المعدل | D7: فعلى ممول من الخزانة العامة | E7: فعلى ممول من القروض | F7: فعلى ممول من المنح | G7: فعلى ممول ذاتيا | I7: الاجمالى | J7: نسبة الفعلي للربط
G8: من الصناديق والحسابات خاصة | H8: أخرى | J8: %
B9: (1) | C9: (2) | I9: (3) | J9: (2/3)
A10: المــــوارد | B10: 3066314.2 | C10: 3328754.4 | D10: 2899593.4 | E10: 5668.9 | F10: 5431.7 | G10: 95704.5 | H10: 72580.4 | I10: =SUM(D10:H10) -> 3078978.9 | J10: =IF(ISERR((I10/C10)),0,(I10/C10)) -> 0.92496427 | K10: 2379215.9 | L10: =I10-C10 -> -249775.5
A11: # الايرادات | B11: 1517854.2 | C11: 1614754.9 | D11: 1388990.4 | E11: 0 | F11: 5431.7 | G11: 95013.6 | H11: 74485.6 | I11: =SUM(D11:H11) -> 1563921.3 | J11: =IF(ISERR((I11/C11)),0,(I11/C11)) -> 0.96851931 | K11: 1347178.1 | L11: =I11-C11 -> -50833.6
A12: ـ الضـــــرائب | B12: 1168795.3 | C12: 1169245.3 | D12: 1255485.6 | E12: 0 | F12: 0 | G12: 0 | H12: 3096.7 | I12: =SUM(D12:H12) -> 1258582.3 | J12: =IF(ISERR((I12/C12)),0,(I12/C12)) -> 1.0764057 | K12: 991402.5 | L12: =I12-C12 -> 89337
A13: = الضرائب على الدخول والأرباح والمكاسب الرأسمالية | B13: 428789.3 | C13: 428789.3 | D13: 516286 | E13: 0 | F13: 0 | G13: 0 | H13: 0 | I13: =SUM(D13:H13) -> 516286 | J13: =IF(ISERR((I13/C13)),0,(I13/C13)) -> 1.2040552 | K13: 386393.2 | L13: =I13-C13 -> 87496.7
A14: * الضرائب على الدخول من التوظف | B14: 110890 | C14: 110890 | D14: 116540.9 | E14: 0 | F14: 0 | G14: 0 | H14: 0 | I14: =SUM(D14:H14) -> 116540.9 | J14: =IF(ISERR((I14/C14)),0,(I14/C14)) -> 1.0509595 | K14: 91924.9 | L14: =I14-C14 -> 5650.9
A15: x الضرائب على المرتبات المحلية | B15: 107340 | C15: 107340 | D15: 113120.9 | E15: 0 | F15: 0 | G15: 0 | H15: 0 | I15: =SUM(D15:H15) -> 113120.9 | J15: =IF(ISERR((I15/C15)),0,(I15/C15)) -> 1.053856 | K15: 89163.1 | L15: =I15-C15 -> 5780.9
A16: x ضرائب الدمغة على الرواتب | B16: 3550 | C16: 3550 | D16: 3420 | E16: 0 | F16: 0 | G16: 0 | H16: 0 | I16: =SUM(D16:H16) -> 3420 | J16: =IF(ISERR((I16/C16)),0,(I16/C16)) -> 0.96338028 | K16: 2761.8 | L16: =I16-C16 -> -130
A17: * الضرائب على دخول الافراد بخلاف التوظف | B17: 68770.5 | C17: 68770.5 | D17: 74733.5 | E17: 0 | F17: 0 | G17: 0 | H17: 0 | I17: =SUM(D17:H17) -> 74733.5 | J17: =IF(ISERR((I17/C17)),0,(I17/C17)) -> 1.0867087 | K17: 58048.3 | L17: =I17-C17 -> 5963
A18: x الضرائب على المهن غير التجارية | B18: 6171 | C18: 6171 | D18: 8502 | E18: 0 | F18: 0 | G18: 0 | H18: 0 | I18: =SUM(D18:H18) -> 8502 | J18: =IF(ISERR((I18/C18)),0,(I18/C18)) -> 1.3777346 | K18: 5629.2 | L18: =I18-C18 -> 2331
A19: x ضرائب النشاط التجارى والصناعى | B19: 62541.5 | C19: 62541.5 | D19: 66201.5 | E19: 0 | F19: 0 | G19: 0 | H19: 0 | I19: =SUM(D19:H19) -> 66201.5 | J19: =IF(ISERR((I19/C19)),0,(I19/C19)) -> 1.0585211 | K19: 52396 | L19: =I19-C19 -> 3660
A20: x ضرائب على الفائدة من السندات ( رؤوس أموال منقولة ) | B20: 21 | C20: 21 | D20: 30 | E20: 0 | F20: 0 | G20: 0 | H20: 0 | I20: =SUM(D20:H20) -> 30 | J20: =IF(ISERR((I20/C20)),0,(I20/C20)) -> 1.4285714 | K20: 23.1 | L20: =I20-C20 -> 9
A21: * الضرائب على الارباح الرأسمالية | B21: 2309.5 | C21: 2309.5 | D21: 2845 | E21: 0 | F21: 0 | G21: 0 | H21: 0 | I21: =SUM(D21:H21) -> 2845 | J21: =IF(ISERR((I21/C21)),0,(I21/C21)) -> 1.2318684 | K21: 1944.7 | L21: =I21-C21 -> 535.5
... A34: x رسوم نقل الملكية | B34: 2512 | C34: 2512 | D34: 2167.4 | E34: 0 | F34: 0 | G34: 0 | H34: 0 | I34: =SUM(D34:H34) -> 2167.4 | J34: =IF(ISERR((I34/C34)),0,(I34/C34)) -> 0.86281847 | K34: 1886.6 | L34: =I34-C34 -> -344.6
A35: x الضرائب علي عوائد أذون وسندات الخزانة العامة | B35: =93400+14050 -> 107450 | C35: =93400+14050 -> 107450 | D35: 107778 | E35: 0 | F35: 0 | G35: 0 | H35: 0 | I35: =SUM(D35:H35) -> 107778 | J35: =IF(ISERR((I35/C35)),0,(I35/C35)) -> 1.0030526 | K35: 75081 | L35: =I35-C35 -> 328
A36: * ضرائب ورسوم على السيارات | B36: 10878.9 | C36: 10878.9 | D36: 9090.1 | E36: 0 | F36: 0 | G36: 0 | H36: 0 | I36: =SUM(D36:H36) -> 9090.1 | J36: =IF(ISERR((I36/C36)),0,(I36/C36)) -> 0.83557161 | K36: 8654.1 | L36: =I36-C36 -> -1788.8
A37: x رسوم تنمية على تسيير السيارات | B37: 6596 | C37: 6596 | D37: 5073.1 | E37: 0 | F37: 0 | G37: 0 | H37: 0 | I37: =SUM(D37:H37) -> 5073.1 | J37: =IF(ISERR((I37/C37)),0,(I37/C37)) -> 0.76911765 | K37: 5012.8 | L37: =I37-C37 -> -1522.9
A38: x رسوم تنمية على السيارات الجديدة المنتجة محلياً وجميع السيارات المستوردة من الخارج | B38: 3090 | C38: 3090 | D38: 2394.2 | E38: 0 | F38: 0 | G38: 0 | H38: 0 | I38: =SUM(D38:H38) -> 2394.2 | J38: =IF(ISERR((I38/C38)),0,(I38/C38)) -> 0.77482201 | K38: 2760.1 | L38: =I38-C38 -> -695.8
A39: x ضرائب ورسوم ذات صفة محلية على السيارات | B39: 634.9 | C39: 634.9 | D39: 418 | E39: 0 | F39: 0 | G39: 0 | H39: 0 | I39: =SUM(D39:H39) -> 418 | J39: =IF(ISERR((I39/C39)),0,(I39/C39)) -> 0.6583714 | K39: 501.2 | L39: =I39-C39 -> -216.9
A40: x ضرائب على السيارات الخاصة ( تضامن إجتماعى ) | B40: 558 | C40: 558 | D40: 1204.8 | E40: 0 | F40: 0 | G40: 0 | H40: 0 | I40: =SUM(D40:H40) -> 1204.8 | J40: =IF(ISERR((I40/C40)),0,(I40/C40)) -> 2.1591398 | K40: 380 | L40: =I40-C40 -> 646.8
A41: = الضرائب على السلع والخدمات | B41: 540983.1 | C41: 541433.1 | D41: 552459.9 | E41: 0 | F41: 0 | G41: 0 | H41: 3096.7 | I41: =SUM(D41:H41) -> 555556.6 | J41: =IF(ISERR((I41/C41)),0,(I41/C41)) -> 1.0260854 | K41: 454211.4 | L41: =I41-C41 -> 14123.5
A42: * الضريبة العامة على المبيعات | B42: 258238 | C42: 258238 | D42: 265650.1 | E42: 0 | F42: 0 | G42: 0 | H42: 0 | I42: =SUM(D42:H42) -> 265650.1 | J42: =IF(ISERR((I42/C42)),0,(I42/C42)) -> 1.0287026 | K42: 197060.3 | L42: =I42-C42 -> 7412.1
A43: x على السلع المحلية | B43: 97369 | C43: 97369 | D43: 106681 | E43: 0 | F43: 0 | G43: 0 | H43: 0 | I43: =SUM(D43:H43) -> 106681 | J43: =IF(ISERR((I43/C43)),0,(I43/C43)) -> 1.0956362 | K43: 74407.9 | L43: =I43-C43 -> 9312
A44: x على البضائع المستوردة | B44: 160869 | C44: 160869 | D44: 158969.1 | E44: 0 | F44: 0 | G44: 0 | H44: 0 | I44: =SUM(D44:H44) -> 158969.1 | J44: =IF(ISERR((I44/C44)),0,(I44/C44)) -> 0.98818977 | K44: 122652.4 | L44: =I44-C44 -> -1899.9
A45: * ضريبة المبيعات على الخدمات | B45: 77437 | C45: 77437 | D45: 71184.5 | E45: 0 | F45: 0 | G45: 0 | H45: 0 | I45: =SUM(D45:H45) -> 71184.5 | J45: =IF(ISERR((I45/C45)),0,(I45/C45)) -> 0.91925694 | K45: 57716.3 | L45: =I45-C45 -> -6252.5
A46: x الخدمات المقدمة فى الفنادق والمطاعم السياحية | B46: 6649 | C46: 6649 | D46: 10465.4 | E46: 0 | F46: 0 | G46: 0 | H46: 0 | I46: =SUM(D46:H46) -> 10465.4 | J46: =IF(ISERR((I46/C46)),0,(I46/C46)) -> 1.573981 | K46: 5661.7 | L46: =I46-C46 -> 3816.4
A47: x خدمات التشغيل للغير | B47: 47694 | C47: 47694 | D47: 39686.1 | E47: 0 | F47: 0 | G47: 0 | H47: 0 | I47: =SUM(D47:H47) -> 39686.1 | J47: =IF(ISERR((I47/C47)),0,(I47/C47)) -> 0.83209838 | K47: 36643.5 | L47: =I47-C47 -> -8007.9
... A144: x ايرادات رؤوس أموال منقولة من البنك المركزى | B144: 24500 | C144: 24500 | D144: 2193 | E144: 0 | F144: 0 | G144: 0 | H144: 0 | I144: =SUM(D144:H144) -> 2193 | J144: =IF(ISERR((I144/C144)),0,(I144/C144)) -> 0.089510204 | K144: 17621 | L144: =I144-C144 -> -22307
A145: * المتحصلات بالوسائل الالكترونية | B145: 0 | C145: 0 | D145: 0 | E145: 0 | F145: 0 | G145: 0 | H145: 0 | L145: =I145-C145 -> 0
A146: x متحصلات الكترونية عن أذون تسوية | B146: 0 | C146: 0 | D146: 0 | E146: 0 | F146: 0 | G146: 0 | H146: 0 | L146: =I146-C146 -> 0
A147: x متحصلات الكترونية أخرى | B147: 0 | C147: 0 | D147: 0 | E147: 0 | F147: 0 | G147: 0 | H147: 0 | L147: =I147-C147 -> 0
A148: ـ المنح | B148: 911.9 | C148: 6399.7 | D148: 0 | E148: 0 | F148: 5431.7 | G148: 0 | H148: 0 | I148: =SUM(D148:H148) -> 5431.7 | J148: =IF(ISERR((I148/C148)),0,(I148/C148)) -> 0.84874291 | K148: 4081.5 | L148: =I148-C148 -> -968
A149: = منح من حكومات أجنبية | B149: 432.8 | C149: 743.9 | D149: 0 | E149: 0 | F149: 363.1 | G149: 0 | H149: 0 | I149: =SUM(D149:H149) -> 363.1 | J149: =IF(ISERR((I149/C149)),0,(I149/C149)) -> 0.48810324 | K149: 348.3 | L149: =I149-C149 -> -380.8
A150: = منح من منظمات دولية | B150: 449.9 | C150: 2931 | D150: 0 | E150: 0 | F150: 2364.9 | G150: 0 | H150: 0 | I150: =SUM(D150:H150) -> 2364.9 | J150: =IF(ISERR((I150/C150)),0,(I150/C150)) -> 0.80685773 | K150: 2205.4 | L150: =I150-C150 -> -566.1
A151: = منح من جهات حكومية | B151: 29.2 | C151: 2724.8 | D151: 0 | E151: 0 | F151: 2703.7 | G151: 0 | H151: 0 | I151: =SUM(D151:H151) -> 2703.7 | J151: =IF(ISERR((I151/C151)),0,(I151/C151)) -> 0.99225631 | K151: 1527.8 | L151: =I151-C151 -> -21.1
A152: ـ الإيرادات الأخرى | B152: 348147 | C152: 439109.9 | D152: 133504.8 | E152: 0 | F152: 0 | G152: 95013.6 | H152: 71388.9 | I152: =SUM(D152:H152) -> 299907.3 | J152: =IF(ISERR((I152/C152)),0,(I152/C152)) -> 0.68298916 | K152: 351694.1 | L152: =I152-C152 -> -139202.6
A153: = عوائد الملكية | B153: 105673.6 | C153: 133149.4 | D153: 59219.9 | E153: 0 | F153: 0 | G153: 243.4 | H153: 27475.8 | I153: =SUM(D153:H153) -> 86939.1 | J153: =IF(ISERR((I153/C153)),0,(I153/C153)) -> 0.65294399 | K153: 93119.8 | L153: =I153-C153 -> -46210.3
A154: * الفوائد المحصلة | B154: 9677.3 | C154: 9677.3 | D154: 15324.7 | E154: 0 | F154: 0 | G154: 229.1 | H154: 0 | I154: =SUM(D154:H154) -> 15553.8 | J154: =IF(ISERR((I154/C154)),0,(I154/C154)) -> 1.6072458 | K154: 8110.2 | L154: =I154-C154 -> 5876.5
A155: x على السندات | B155: 133.9 | C155: 133.9 | D155: -6.6 | E155: 0 | F155: 0 | G155: 114.5 | H155: 0 | I155: =SUM(D155:H155) -> 107.9 | J155: =IF(ISERR((I155/C155)),0,(I155/C155)) -> 0.80582524 | K155: 158.8 | L155: =I155-C155 -> -26
A156: x على الإقراض | B156: 1.7 | C156: 1.7 | D156: 66.1 | E156: 0 | F156: 0 | G156: 0 | H156: 0 | I156: =SUM(D156:H156) -> 66.1 | J156: =IF(ISERR((I156/C156)),0,(I156/C156)) -> 38.882353 | K156: 2.1 | L156: =I156-C156 -> 64.4
A157: x على إعادة الإقراض (تشمل فوائد القروض الخارجية المعاد أقراضها من الخزانة العامة) | B157: 5669.4 | C157: 5669.4 | D157: 14467.3 | E157: 0 | F157: 0 | G157: 0 | H157: 0 | I157: =SUM(D157:H157) -> 14467.3 | J157: =IF(ISERR((I157/C157)),0,(I157/C157)) -> 2.5518221 | K157: 6575.1 | L157: =I157-C157 -> 8797.9
A158: x فوائد دائنة | B158: 3800 | C158: 3799.9 | D158: 795.6 | E158: 0 | F158: 0 | G158: 0 | H158: 0 | I158: =SUM(D158:H158) -> 795.6 | J158: =IF(ISERR((I158/C158)),0,(I158/C158)) -> 0.20937393 | K158: 1311.4 | L158: =I158-C158 -> -3004.3
A159: x أخرى | B159: 72.3 | C159: 72.4 | D159: 2.3 | E159: 0 | F159: 0 | G159: 114.6 | H159: 0 | I159: =SUM(D159:H159) -> 116.9 | J159: =IF(ISERR((I159/C159)),0,(I159/C159)) -> 1.6146409 | K159: 62.8 | L159: =I159-C159 -> 44.5
... A206: x مبالغ محصلة من الجهات الغير داخلة في الموازنة العامة للدولة مقابل ضمان وزارة المالية لها | B206: 3686 | C206: 3686 | D206: 4411.5 | E206: 0 | F206: 0 | G206: 0 | H206: 0 | I206: =SUM(D206:H206) -> 4411.5 | J206: =IF(ISERR((I206/C206)),0,(I206/C206)) -> 1.1968258 | K206: 16.2 | L206: =I206-C206 -> 725.5
A207: xحصة الخزانة العامة من حصيلة الاربعون قرش المخصصة للهيئة العامة للتأمين الصحي | B207: 0 | C207: 0 | D207: 55.7 | E207: 0 | F207: 0 | G207: 0 | H207: 0 | L207: =I207-C207 -> 0
A208: * إيرادات بيع السلع | B208: 70.4 | C208: 70.4 | D208: 100.4 | E208: 0 | F208: 0 | G208: 0 | H208: 0 | I208: =SUM(D208:H208) -> 100.4 | J208: =IF(ISERR((I208/C208)),0,(I208/C208)) -> 1.4261364 | K208: 67.7 | L208: =I208-C208 -> 30
A209: x حصيلة بيع المخزون السلعى | B209: 70.4 | C209: 70.4 | D209: 100.4 | E209: 0 | F209: 0 | G209: 0 | H209: 0 | I209: =SUM(D209:H209) -> 100.4 | J209: =IF(ISERR((I209/C209)),0,(I209/C209)) -> 1.4261364 | K209: 67.7 | L209: =I209-C209 -> 30
A210: * المتحصلات بالوسائل الالكترونية | B210: 0 | C210: 0 | D210: 0 | E210: 0 | F210: 0 | G210: 0 | H210: 0 | L210: =I210-C210 -> 0
A211: x متحصلات الكترونية عن أذون تسوية | B211: 0 | C211: 0 | D211: 0 | E211: 0 | F211: 0 | G211: 0 | H211: 0 | L211: =I211-C211 -> 0
A212: x متحصلات الكترونية أخرى | B212: 0 | C212: 0 | D212: 0 | E212: 0 | F212: 0 | G212: 0 | H212: 0 | L212: =I212-C212 -> 0
A213: = تعويضات وغرامات | B213: 2021 | C213: 2030.3 | D213: 1523.7 | E213: 0 | F213: 0 | G213: 1.1 | H213: 1108.6 | I213: =SUM(D213:H213) -> 2633.4 | J213: =IF(ISERR((I213/C213)),0,(I213/C213)) -> 1.2970497 | K213: 2008.5 | L213: =I213-C213 -> 603.1
A214: * غرامات العقوبات والمصادرات | B214: 2021 | C214: 2030.3 | D214: 1523.7 | E214: 0 | F214: 0 | G214: 1.1 | H214: 1108.6 | I214: =SUM(D214:H214) -> 2633.4 | J214: =IF(ISERR((I214/C214)),0,(I214/C214)) -> 1.2970497 | K214: 2008.5 | L214: =I214-C214 -> 603.1
A215: x ايرادات النقد المصادر | B215: 174.5 | C215: 174.5 | D215: 162.2 | E215: 0 | F215: 0 | G215: 0 | H215: 0 | I215: =SUM(D215:H215) -> 162.2 | J215: =IF(ISERR((I215/C215)),0,(I215/C215)) -> 0.92951289 | K215: -23.7 | L215: =I215-C215 -> -12.3
A216: x حصيلة الاموال المستردة | B216: 40 | C216: 40 | D216: 13.8 | E216: 0 | F216: 0 | G216: 0 | H216: 0 | I216: =SUM(D216:H216) -> 13.8 | J216: =IF(ISERR((I216/C216)),0,(I216/C216)) -> 0.345 | K216: 21.9 | L216: =I216-C216 -> -26.2
A217: x التعويضات الناتجة عن المخالفات الاستيرادية | B217: 121 | C217: 121 | D217: 0 | E217: 0 | F217: 0 | G217: 0 | H217: 281 | I217: =SUM(D217:H217) -> 281 | J217: =IF(ISERR((I217/C217)),0,(I217/C217)) -> 2.322314 | K217: 113.3 | L217: =I217-C217 -> 160
A218: x تعويضات عن الممارسات الضارة فى التجارة الدولية | B218: 250 | C218: 250 | D218: -0.1 | E218: 0 | F218: 0 | G218: 0 | H218: 823.9 | I218: =SUM(D218:H218) -> 823.8 | J218: =IF(ISERR((I218/C218)),0,(I218/C218)) -> 3.2952 | K218: 641.5 | L218: =I218-C218 -> 573.8
A219: x حصيلة صندوق الغرامات والجزاءات | B219: 0.2 | C219: 0.2 | D219: 0.2 | E219: 0 | F219: 0 | G219: 0 | H219: 0 | I219: =SUM(D219:H219) -> 0.2 | J219: =IF(ISERR((I219/C219)),0,(I219/C219)) -> 1 | K219: 2.5 | L219: =I219-C219 -> 0
A220: x حصيلة الغرامات | B220: 1118.3 | C220: 1127.6 | D220: 1319.6 | E220: 0 | F220: 0 | G220: 1.1 | H220: 3.7 | I220: =SUM(D220:H220) -> 1324.4 | J220: =IF(ISERR((I220/C220)),0,(I220/C220)) -> 1.17453 | K220: 1070.6 | L220: =I220-C220 -> 196.8
A221: x أخرى | B221: 317 | C221: 317 | D221: 28 | E221: 0 | F221: 0 | G221: 0 | H221: 0 | I221: =SUM(D221:H221) -> 28 | J221: =IF(ISERR((I221/C221)),0,(I221/C221)) -> 0.088328076 | K221: 182.4 | L221: =I221-C221 -> -289
A222: = التحويلات الاختيارية | B222: 1469.2 | C222: 11093.2 | D222: 161.4 | E222: 0 | F222: 0 | G222: 36.1 | H222: 10101.7 | I222: =SUM(D222:H222) -> 10299.2 | J222: =IF(ISERR((I222/C222)),0,(I222/C222)) -> 0.92842462 | K222: 7882 | L222: =I222-C222 -> -794
A223: * جـــارية | B223: 664.2 | C223: 8799.7 | D223: 161.4 | E223: 0 | F223: 0 | G223: 36.1 | H223: 8416.3 | I223: =SUM(D223:H223) -> 8613.8 | J223: =IF(ISERR((I223/C223)),0,(I223/C223)) -> 0.97887428 | K223: 6092.3 | L223: =I223-C223 -> -185.9
A224: x ايرادات انشطة مختلفة | B224: 664.2 | C224: 8799.7 | D224: 161.4 | E224: 0 | F224: 0 | G224: 36.1 | H224: 8416.3 | I224: =SUM(D224:H224) -> 8613.8 | J224: =IF(ISERR((I224/C224)),0,(I224/C224)) -> 0.97887428 | K224: 6092.3 | L224: =I224-C224 -> -185.9
... A243: # المتحصلات من الحيازة | B243: 24821.5 | C243: 24821.5 | D243: 35364.7 | E243: 0 | F243: 0 | G243: 690.9 | H243: 0 | I243: =SUM(D243:H243) -> 36055.6 | J243: =IF(ISERR((I243/C243)),0,(I243/C243)) -> 1.4525955 | K243: 22697 | L243: =I243-C243 -> 11234.1
B244: ='المصروفات اقتصادي'!B10-'الموارد اقتصادي'!B10 -> 0 | C244: ='المصروفات اقتصادي'!C10-'الموارد اقتصادي'!C10 -> 0 | D244: ='المصروفات اقتصادي'!D10-'الموارد اقتصادي'!D10 -> 0 | E244: ='المصروفات اقتصادي'!E10-'الموارد اقتصادي'!E10 -> 0 | F244: ='المصروفات اقتصادي'!F10-'الموارد اقتصادي'!F10 -> 0 | G244: ='المصروفات اقتصادي'!G10-'الموارد اقتصادي'!G10 -> 0 | H244: ='المصروفات اقتصادي'!H10-'الموارد اقتصادي'!H10 -> 0 | I244: ='المصروفات اقتصادي'!I10-'الموارد اقتصادي'!I10 -> 0 | ... K244: ='المصروفات اقتصادي'!K10-'الموارد اقتصادي'!K10 -> -0.03

Sheet التقسيم الاداري
A1: التقسيم الاداري للمصروفات
B2: الجهاز الإداري | C2: الإدارة المحلية | D2: الهيئات الخدمية | E2: الإجمالى
A3: الاستخدامات | B3: 2561175.3 | C3: 245859 | D3: 271944.6 | E3: =SUBTOTAL(9,B3:D3) -> 3078978.9 | F3: =E3-D3-C3-B3 -> 0
A4: # المصروفات | B4: 1690467.3 | C4: 245274.7 | D4: 248851.6 | E4: =SUBTOTAL(9,B4:D4) -> 2184593.6 | F4: =E4-D4-C4-B4 -> 0
A5: ـ الأجور والتعويضات للعاملين | B5: 167423.7 | C5: 180581.5 | D5: 64458.2 | E5: =SUBTOTAL(9,B5:D5) -> 412463.4 | F5: =E5-D5-C5-B5 -> 0
A6: = الاجور والبدلات النقدية والعينية | B6: 126171.2 | C6: 154704.5 | D6: 57356.9 | E6: =SUBTOTAL(9,B6:D6) -> 338232.6 | F6: =E6-D6-C6-B6 -> 0
A7: * الوظائف الدائمة | B7: 32858.1 | C7: 54349 | D7: 13020.2 | E7: =SUBTOTAL(9,B7:D7) -> 100227.3 | F7: =E7-D7-C7-B7 -> 0
A8: x المرتبات الاساسية | B8: 14961 | C8: 29553.6 | D8: 3225.6 | E8: =SUBTOTAL(9,B8:D8) -> 47740.2 | F8: =E8-D8-C8-B8 -> 0
A9: x تكاليف المعارين و تتحمل الموازنة مرتباتهم | B9: 691.5 | C9: 0 | D9: 0 | E9: =SUBTOTAL(9,B9:D9) -> 691.5 | F9: =E9-D9-C9-B9 -> 0
A10: x تكاليف الاجازات الدراسية | B10: 0 | C10: 0 | D10: 0.2 | E10: =SUBTOTAL(9,B10:D10) -> 0.2 | F10: =E10-D10-C10-B10 -> 0
A11: x تكاليف المنح التدريبية | B11: 0.1 | C11: 0 | D11: 0 | E11: =SUBTOTAL(9,B11:D11) -> 0.1 | F11: =E11-D11-C11-B11 -> 0
A12: x الاجر الوظيفى | B12: 17013.1 | C12: 24795.4 | D12: 9788.1 | E12: =SUBTOTAL(9,B12:D12) -> 51596.6 | F12: =E12-D12-C12-B12 -> 0
A13: x تكاليف أجور ومرتبات المخاطبين بأحكام القانون رقم (28) لسنة 2018 | B13: 192.4 | C13: 0 | D13: 6.3 | E13: =SUBTOTAL(9,B13:D13) -> 198.7 | F13: =E13-D13-C13-B13 -> 0
A14: * الوظائف المؤقتة | B14: 1949.7 | C14: 1631.4 | D14: 6582.6 | E14: =SUBTOTAL(9,B14:D14) -> 10163.7 | F14: =E14-D14-C14-B14 -> 0
... A260: * لمؤسسات عامة غيرمالية | B260: 264355.8 | C260: 0.5 | D260: 2584.9 | E260: =SUBTOTAL(9,B260:D260) -> 266941.2 | F260: =E260-D260-C260-B260 -> 0
A261: x دعم السلع التموينية والمزارعين | B261: =121810+276.9 -> 122086.9 | C261: 0 | D261: 23.7 | E261: =SUBTOTAL(9,B261:D261) -> 122110.6 | F261: =E261-D261-C261-B261 -> 0
A262: x دعم الطاقة | B262: =125631.8+2081.4 -> 127713.2 | C262: 0 | D262: 0 | E262: =SUBTOTAL(9,B262:D262) -> 127713.2 | F262: =E262-D262-C262-B262 -> 0
A263: x دعم نقل الركاب | B263: 1901 | C263: 0 | D263: 0 | E263: =SUBTOTAL(9,B263:D263) -> 1901 | F263: =E263-D263-C263-B263 -> 0
A264: x التأمين الصحى والادوية | B264: 1872.1 | C264: 0 | D264: 0 | E264: =SUBTOTAL(9,B264:D264) -> 1872.1 | F264: =E264-D264-C264-B264 -> 0
A265: x دعم الانتاج الصناعى وتنمية الصعيد | B265: 1073.4 | C265: 0 | D265: 396.2 | E265: =SUBTOTAL(9,B265:D265) -> 1469.6 | F265: =E265-D265-C265-B265 -> 0
A266: x أخـــــــرى | B266: 9709.2 | C266: 0.5 | D266: 205.7 | E266: =SUBTOTAL(9,B266:D266) -> 9915.4 | F266: =E266-D266-C266-B266 -> 0
A267: * لمؤسسات عامة مالية | B267: 1297.5 | C267: 0 | D267: 7608.2 | E267: =SUBTOTAL(9,B267:D267) -> 8905.7 | F267: =E267-D267-C267-B267 -> 0
A268: x دعم فائدة القروض الميسرة | B268: 231.6 | C268: 0 | D268: 0 | E268: =SUBTOTAL(9,B268:D268) -> 231.6 | F268: =E268-D268-C268-B268 -> 0
A269: x دعم اسكان محدودى الدخل | B269: 0 | C269: 0 | D269: 4379.8 | E269: =SUBTOTAL(9,B269:D269) -> 4379.8 | F269: =E269-D269-C269-B269 -> 0
A270: x أخــــــــرى | B270: 1065.9 | C270: 0 | D270: 3228.4 | E270: =SUBTOTAL(9,B270:D270) -> 4294.3 | F270: =E270-D270-C270-B270 -> 0
A271: = المنح | B271: 5979.8 | C271: 3789.2 | D271: 3083.2 | E271: =SUBTOTAL(9,B271:D271) -> 12852.2 | F271: =E271-D271-C271-B271 -> 0
A272: * المنح للحكومات الأجنبية | B272: 64.1 | C272: 0 | D272: 215.4 | E272: =SUBTOTAL(9,B272:D272) -> 279.5 | F272: =E272-D272-C272-B272 -> 0
A273: * منح للمنظمات الدولية | B273: 0.2 | C273: 0 | D273: 0 | E273: =SUBTOTAL(9,B273:D273) -> 0.2 | F273: =E273-D273-C273-B273 -> 0
A274: * منح لجهات الحكومة العامة | B274: 5915.5 | C274: 3789.2 | D274: 2867.8 | E274: =SUBTOTAL(9,B274:D274) -> 12572.5 | F274: =E274-D274-C274-B274 -> 0
... A352: # سداد القروض | B352: 846566.6 | C352: 581.3 | D352: 21953.6 | E352: =SUBTOTAL(9,B352:D352) -> 869101.5 | F352: =E352-D352-C352-B352 -> 0

Sheet وظيفي 2023 ومقارن سنتين
A1: التقسيم الوظيفي
A2: للحساب الختامي للموازنة العامة للدولة من السنة المالية 2021/2020 حتى 2022 / 2023
A3: ( الاستخدامات ) | O3: بالمليون الجنيه
A4: البيــــــــــان | B4: ختامى السنة المالية 2023/2022 | N4: ختامى السنة المالية 2022/2021 | O4: ختامي السنة المالية 2021/2020
B5: الربط الأصلي | C5: الربط المعدل | D5: الباب الاول - الاجور والتعويضات للعاملين | E5: الباب الثاني - شراء السلع والخدمات | F5: الباب الثالث - الفوائد | G5: الباب الرابع - الدعم والمنح والمزايا الاجتماعية | H5: الباب الخامس -المصروفات الاخري | I5: الباب السادس - شراء الاصول غير المالية (الاستثمارات) | J5: جملة المصروفات | K5: الباب السابع - الحيازة من الأصول المالية | L5: الباب الثامن - سداد القروض | M5: جملة الاستخدامات 2023/2022
A6: قطاعات الخدمات العامة والامن والنظام العام | B6: 2192569.2 | C6: 2171421.3 | D6: 126712.6 | E6: 39909.6 | F6: 769437.6 | G6: 6707.8 | H6: 113803.2 | I6: 60625.9 | J6: 1117196.7 | K6: 24069.9 | L6: 841656.2 | M6: 1982922.8 | N6: 1411832.7 | O6: 1389710.9
A7: قطاعات الشئون الاقتصادية والبيئة والاسكان | B7: 203087.7 | C7: 291895.1 | D7: 25896.9 | E7: 19262.6 | F7: 3225.8 | G7: 14748.5 | H7: 4769.4 | I7: 165794.9 | J7: 233698.1 | K7: 714 | L7: 25401.8 | M7: 259813.9 | N7: 273342.3 | O7: 203804.4
A8: قطاعات التنمية البشرية والحماية الاجتماعية | B8: 670657.4 | C8: 865437.9 | D8: 259853.9 | E8: 68607.8 | F8: 1539.2 | G8: 432644.6 | H8: 8487.1 | I8: 62566.2 | J8: 833698.8 | K8: 500 | L8: 2043.4 | M8: 836242.2 | N8: 694040.8 | O8: 546935.2
A9: الاجمالي العام | B9: =SUM(B6:B8) -> 3066314.3 | C9: =SUM(C6:C8) -> 3328754.3 | D9: =SUM(D6:D8) -> 412463.4 | E9: =SUM(E6:E8) -> 127780 | F9: =SUM(F6:F8) -> 774202.6 | G9: =SUM(G6:G8) -> 454100.9 | H9: =SUM(H6:H8) -> 127059.7 | I9: =SUM(I6:I8) -> 288987 | ... O9: =SUM(O6:O8) -> 2140450.5
